BEGIN:VCALENDAR
VERSION:2.0
PRODID:-//Patriot Guard Riders - ECPv5.6.0//NONSGML v1.0//EN
CALSCALE:GREGORIAN
METHOD:PUBLISH
X-WR-CALNAME:Patriot Guard Riders
X-ORIGINAL-URL:https://www.patriotguard.org
X-WR-CALDESC:Events for Patriot Guard Riders
BEGIN:VTIMEZONE
TZID:America/New_York
BEGIN:DAYLIGHT
TZOFFSETFROM:-0500
TZOFFSETTO:-0400
TZNAME:EDT
DTSTART:20160313T070000
END:DAYLIGHT
BEGIN:STANDARD
TZOFFSETFROM:-0400
TZOFFSETTO:-0500
TZNAME:EST
DTSTART:20161106T060000
END:STANDARD
END:VTIMEZONE
BEGIN:VEVENT
DTSTART;TZID=America/New_York:20160725T090000
DTEND;TZID=America/New_York:20160725T110000
DTSTAMP:20210512T235048
CREATED:20160725T130000Z
LAST-MODIFIED:20191201T144130Z
UID:410413-1469437200-1469444400@www.patriotguard.org
SUMMARY:Francis E. Bell Sr\, USMC\, Viertnam / Aurora
DESCRIPTION:Members\,\n\n We have been requested by the family of USMC Vietnam Veteran Francis E. Bell Sr. to stand a flag line for the dignified transfer and to escort Mr. Bell and his family to Sampson National Cemetery for interment with full military honors. \nWhen/Where\nMonday\, July 25th 2016\nAurora\, N.Y. \nMission Narrative: \nMr. Bell was severely injured in Vietnam\, he lost his left leg along with multiple wounds including a bayonet wound to his abdomen. That did not stop him from having a full and active life. Francis was a life member of the DAV (Disabled American Veterans) and the VVA (Vietnam Veterans Association) where he was a Chapter President. Mr. Bell was also a Scoutmaster for Boy Scout Troop 53 of King Ferry NY.\n\nMr. Bell’s military commendations include the Purple Heart\, The Vietnam Service Medal\, Vietnam Campaign Medal\, Good Conduct Medal and the National Defense Medal. \nMr. Bell devoted nearly his entire life to his family\, his community and this great nation. \nPlease do what you can to come and thank this great veteran and his family for what he has done for us all! \nLRC: Kent Tryon\nkltryon59@gmail.com\n[URL=”tel:607-206-7456″]607-206-7456[/URL]
URL:https://www.patriotguard.org/mission/francis-e-bell-sr-usmc-viertnam-aurora/
END:VEVENT
END:VCALENDAR