BEGIN:VCALENDAR
VERSION:2.0
PRODID:-//Patriot Guard Riders - ECPv5.3.2.1//NONSGML v1.0//EN
CALSCALE:GREGORIAN
METHOD:PUBLISH
X-WR-CALNAME:Patriot Guard Riders
X-ORIGINAL-URL:https://www.patriotguard.org
X-WR-CALDESC:Events for Patriot Guard Riders
BEGIN:VTIMEZONE
TZID:America/New_York
BEGIN:DAYLIGHT
TZOFFSETFROM:-0500
TZOFFSETTO:-0400
TZNAME:EDT
DTSTART:20190310T070000
END:DAYLIGHT
BEGIN:STANDARD
TZOFFSETFROM:-0400
TZOFFSETTO:-0500
TZNAME:EST
DTSTART:20191103T060000
END:STANDARD
END:VTIMEZONE
BEGIN:VEVENT
DTSTART;VALUE=DATE:20190903
DTEND;VALUE=DATE:20190904
DTSTAMP:20210401T031426
CREATED:20190902T143802Z
LAST-MODIFIED:20190902T143802Z
UID:172292-1567468800-1567555199@www.patriotguard.org
SUMMARY:Francis Darrell Pope
DESCRIPTION:Honor Mission\nFrancis Darrell Pope\, Retired\, Veteran\nUSA – Vietnam\nLawton\, Oklahoma – 09-03-19\n\n\n\nABOUT THE MISSION: \nFriends of Francis Darrell Pope\, US Army\, Vietnam Veteran\, retired\, have asked the Patriot Guard to stand in honor of their fallen Hero. 1SGT Pope has no known living family. 1SGT Francis Darrell Pope started his military February 11\, 1974 and completed his career July 15\, 1995. 1SGT Pope was a Sr. Sup Sgt. His last duty station was SP BTRY 1st AIT\, Fort Sill \, Ok. ( TRADOC). 1SGT Pope received the following medals and ribbons: National Defense Service Medal (2 awards)\, PRCHT Badge\, Republic of Vietnam Campaign Medal w/60 dev\, Vietnam Service Medal\, PUC\, Republic of Vietnam Gallantry w/palm\, Bronze Star\, Silver Star\, 2 O/S Bars\, 6 SVC Stripes\, Good Conduct Medal (4th award)\, AFEM ( Korea)\, Expert Rifle Badge M-14 & M16. Service will be graveside at Fort Sill on Post at 2:30 pm. 1SGT Pope’s friends from the Lawton VFW\, where he was very active\, are asking any and all who are able to come\, be there as his extended family.\n\n\nPRIMARY STAGING DETAILS: 09-03-19 \nStaging Time: 1:00 PM\n \nWhinery/Huddelston Funeral Home\n6210 NW Cache Rd\nLawton\, Oklahoma 73501\n\n\nRide Captain: \nJerry “Shepard” Wilson\n1-580-467-4648\njerryw_46@yahoo.com\n\n\nSpecial Instructions: \nBriefing: 1:15 pm. – Must attend to ride escort.\nKSU at 1:30 pm. for Fort Sill.\nMust wear proper clothing to ride on post.\n\n\nFlags & Water:\nFlags will be provided\nIf you have large bike flags\, please bring them.\nWater WILL NOT be provided\, please bring your own.\n\n\n\nSubmitted By: Jerry Wilson \nPosition: Oklahoma Ride Captain \n\nNote: You do not have to own/ride a motorcycle or be a veteran to join\, and membership is Free. The only requirement is RESPECT! To subscribe to receive mission notices\, log into the National Site and click on the Members tab at the top. Select the Subscribe to PGR Missions option.\n Print This Page
URL:https://www.patriotguard.org/mission/francis-darrell-pope/
CATEGORIES:Honor Mission
END:VEVENT
END:VCALENDAR