BEGIN:VCALENDAR
VERSION:2.0
PRODID:-//Patriot Guard Riders - ECPv5.3.2.1//NONSGML v1.0//EN
CALSCALE:GREGORIAN
METHOD:PUBLISH
X-WR-CALNAME:Patriot Guard Riders
X-ORIGINAL-URL:https://www.patriotguard.org
X-WR-CALDESC:Events for Patriot Guard Riders
BEGIN:VTIMEZONE
TZID:America/New_York
BEGIN:DAYLIGHT
TZOFFSETFROM:-0500
TZOFFSETTO:-0400
TZNAME:EDT
DTSTART:20190310T070000
END:DAYLIGHT
BEGIN:STANDARD
TZOFFSETFROM:-0400
TZOFFSETTO:-0500
TZNAME:EST
DTSTART:20191103T060000
END:STANDARD
END:VTIMEZONE
BEGIN:VEVENT
DTSTART;VALUE=DATE:20190418
DTEND;VALUE=DATE:20190419
DTSTAMP:20210401T170807
CREATED:20190416T140022Z
LAST-MODIFIED:20190416T140022Z
UID:157518-1555545600-1555631999@www.patriotguard.org
SUMMARY:Francis B. McGough
DESCRIPTION:Honor Mission\nFrancis B. McGough\, Retired\nUSA USN – WW II\nPocasset\, Massachusetts – 04-18-19\n\n\n\n\nABOUT THE MISSION: \nFrancis B. McGough served in the U.S. Army during WW II. At the end of the war he then enlisted in the U.S. Navy where he served a combined 38 years of service to his country\, attaining the rank of Gunners Mate\, Petty Officer 1st Class on board the USS Purdy\, DD 734.\n\n\nPRIMARY STAGING DETAILS: 04-18-19 \nStaging Time: 10:00 AM\n \nCape Cod Harley Davidson\n750 MacArthur Blvd.\nPocasset\, Massachusetts 02559\n\n\nRide Captain: \nPaul Lemieux\nplemieux5507@gmail.com\n\n\nSpecial Instructions: \nCommittal At: Massachusetts National Cemetery\, Connery Ave.\, Bourne MA. 02532 \nBriefing /KSU Time : 11:00 AM \n\nFlags & Water:\nFlags will be provided\nLarge Bike Flags will NOT be needed.\nWater WILL NOT be provided\, please bring your own.\n\n\n\n\nSubmitted By: Steven Vieira \nPosition: Massachusetts Assistant State Captain \n\nNote: You do not have to own/ride a motorcycle or be a veteran to join\, and membership is Free. The only requirement is RESPECT! To subscribe to receive mission notices\, log into the National Site and click on the Members tab at the top. Select the Subscribe to PGR Missions option.\n Print This Page
URL:https://www.patriotguard.org/mission/francis-b-mcgough/
CATEGORIES:Honor Mission
END:VEVENT
END:VCALENDAR