BEGIN:VCALENDAR
VERSION:2.0
PRODID:-//Patriot Guard Riders - ECPv5.3.2.1//NONSGML v1.0//EN
CALSCALE:GREGORIAN
METHOD:PUBLISH
X-WR-CALNAME:Patriot Guard Riders
X-ORIGINAL-URL:https://www.patriotguard.org
X-WR-CALDESC:Events for Patriot Guard Riders
BEGIN:VTIMEZONE
TZID:America/New_York
BEGIN:DAYLIGHT
TZOFFSETFROM:-0500
TZOFFSETTO:-0400
TZNAME:EDT
DTSTART:20190310T070000
END:DAYLIGHT
BEGIN:STANDARD
TZOFFSETFROM:-0400
TZOFFSETTO:-0500
TZNAME:EST
DTSTART:20191103T060000
END:STANDARD
END:VTIMEZONE
BEGIN:VEVENT
DTSTART;VALUE=DATE:20190706
DTEND;VALUE=DATE:20190707
DTSTAMP:20210404T030930
CREATED:20190706T003010Z
LAST-MODIFIED:20190706T003010Z
UID:166752-1562371200-1562457599@www.patriotguard.org
SUMMARY:Francis Arrington Antone\, Jr.
DESCRIPTION:Honor Mission\nFrancis Arrington Antone\, Jr.\, Veteran\nUSA USMC – Vietnam\nMaricopa\, Arizona – 07-06-19\n\n\n\n\nABOUT THE MISSION: \nFrancis Arrington Antone\, Jr. served in the United States Army from 1967 till 1969\, serving in Vietnam as an Infantryman with the 82nd Airborne. He then joined the United States Marine Corps in 1971 and served until 1974 as a with the 7th Marines.  He was awarded the National National Defense Service Medal Vietnam Service Medal Vietnam Campaign Medal\, Army Commendation Medal\, Good Conduct Medal\, Rifle Marksmanship Badge\n\n\nPRIMARY STAGING DETAILS: 07-06-19 \nStaging Time: 04:30 am \nAk-Chin Cemetery\nFarrell Road and Cemetery Road\nMaricopa\, Arizona 85139\n\n\nRide Captain: \nRide Captain-Doug “Bones” Boelter\nFlag Captain-Doug “Bones” Boelter\n\n\nSpecial Instructions: \nPlease meet Ride Captain at Cemetery. The entrance to the Cemetery is north on Cemetery Road from Farrell Rd.Military Honors: 5:00 am\n\n\nFlags & Water:\nFlags will be provided\nLarge Bike Flags will NOT be needed.\nWater will be provided.\n\nSubmitted By: Tom Burns \nPosition: Arizona State Captain \n\nNote: You do not have to own/ride a motorcycle or be a veteran to join\, and membership is Free. The only requirement is RESPECT! To subscribe to receive mission notices\, log into the National Site and click on the Members tab at the top. Select the Subscribe to PGR Missions option.\n Print This Page
URL:https://www.patriotguard.org/mission/francis-arrington-antone-jr/
CATEGORIES:Honor Mission
END:VEVENT
END:VCALENDAR