BEGIN:VCALENDAR
VERSION:2.0
PRODID:-//Patriot Guard Riders - ECPv5.6.0//NONSGML v1.0//EN
CALSCALE:GREGORIAN
METHOD:PUBLISH
X-WR-CALNAME:Patriot Guard Riders
X-ORIGINAL-URL:https://www.patriotguard.org
X-WR-CALDESC:Events for Patriot Guard Riders
BEGIN:VTIMEZONE
TZID:America/New_York
BEGIN:DAYLIGHT
TZOFFSETFROM:-0500
TZOFFSETTO:-0400
TZNAME:EDT
DTSTART:20160313T070000
END:DAYLIGHT
BEGIN:STANDARD
TZOFFSETFROM:-0400
TZOFFSETTO:-0500
TZNAME:EST
DTSTART:20161106T060000
END:STANDARD
END:VTIMEZONE
BEGIN:VEVENT
DTSTART;TZID=America/New_York:20160812T090000
DTEND;TZID=America/New_York:20160812T110000
DTSTAMP:20210512T052105
CREATED:20160812T130000Z
LAST-MODIFIED:20191201T143648Z
UID:409977-1470992400-1470999600@www.patriotguard.org
SUMMARY:Frances Bane\, 82
DESCRIPTION:Frances Bane\nUS Navy Veteran\n12 August 2016\nSierra Vista\, AZ\n\n\nThe family of Frances Bane (82)  has requested the PGR to stand a  flag line for military honors this Friday\, 12 August 2016\, at the  Southern Arizona Veterans Memorial Cemetery.  Frances joined the US Navy  in 1953 and proudly served our country for 3 years.  While in the Navy\,  she served as an administrative clerk stationed in Norfolk Virginia.   Military honors commence at 1:00 pm.   \nSTAGING INFO:\nLOCATION:  Entrance to SAZVMC\, 1300 Buffalo Soldier Trail\, Sierra Vista w/ 3×5 flags mounted \nTIME:  12:00 pm \nBRIEFiNG:  12:25 pm \nKSU:  12:30 pm \nRIDE CAPTAIN:  Becky Baze 520-508-7127
URL:https://www.patriotguard.org/mission/frances-bane-82/
CATEGORIES:Archive
END:VEVENT
END:VCALENDAR