BEGIN:VCALENDAR
VERSION:2.0
PRODID:-//Patriot Guard Riders - ECPv5.3.2.1//NONSGML v1.0//EN
CALSCALE:GREGORIAN
METHOD:PUBLISH
X-WR-CALNAME:Patriot Guard Riders
X-ORIGINAL-URL:https://www.patriotguard.org
X-WR-CALDESC:Events for Patriot Guard Riders
BEGIN:VTIMEZONE
TZID:America/New_York
BEGIN:DAYLIGHT
TZOFFSETFROM:-0500
TZOFFSETTO:-0400
TZNAME:EDT
DTSTART:20190310T070000
END:DAYLIGHT
BEGIN:STANDARD
TZOFFSETFROM:-0400
TZOFFSETTO:-0500
TZNAME:EST
DTSTART:20191103T060000
END:STANDARD
END:VTIMEZONE
BEGIN:VEVENT
DTSTART;VALUE=DATE:20190614
DTEND;VALUE=DATE:20190615
DTSTAMP:20210405T045930
CREATED:20190612T163743Z
LAST-MODIFIED:20190612T163743Z
UID:164563-1560470400-1560556799@www.patriotguard.org
SUMMARY:Forrest Hobbs
DESCRIPTION:Honor Mission\nForrest Hobbs\, Veteran\nUSAF\nMaplewood\, Missouri – 06-14-19\n\n\n\n\nABOUT THE MISSION: \nPatriot Guard Riders have been requested by invitation to honor Airman first class Forrest Hobbs.  Please join us in standing a flag line of honor for Air Force veteran Hobbs\, just as he once stood for us.\n\n\nPRIMARY STAGING DETAILS: 06-14-19 \nStaging Time: 9:45 am \nJ.B. Smith Funeral Home\n7456 Manchester Rd.\nMaplewood\, Missouri 63143\n\n\nRide Captain: \nMike Albers\nhuck3517@yahoo.com\n\n\nSpecial Instructions: \nSTAGE:  9:45 am with meeting to follow\nFLAG LINE:  10:00 am\nSERVICE:  11:00 am\nJEFFERSON BARRACKS:  12:30 pm\nFLAG SUPPORT-Mike “Moose” Hanewinkel\n\nFlags & Water:\nFlags will be provided\nIf you have large bike flags\, please bring them.\nWater will be provided.\n\n\n\n\nSubmitted By: Michael Albers \nPosition: Missouri Ride Captain \n\nNote: You do not have to own/ride a motorcycle or be a veteran to join\, and membership is Free. The only requirement is RESPECT! To subscribe to receive mission notices\, log into the National Site and click on the Members tab at the top. Select the Subscribe to PGR Missions option.\n Print This Page
URL:https://www.patriotguard.org/mission/forrest-hobbs/
CATEGORIES:Honor Mission
END:VEVENT
END:VCALENDAR