BEGIN:VCALENDAR
VERSION:2.0
PRODID:-//Patriot Guard Riders - ECPv5.3.2.1//NONSGML v1.0//EN
CALSCALE:GREGORIAN
METHOD:PUBLISH
X-WR-CALNAME:Patriot Guard Riders
X-ORIGINAL-URL:https://www.patriotguard.org
X-WR-CALDESC:Events for Patriot Guard Riders
BEGIN:VTIMEZONE
TZID:America/New_York
BEGIN:DAYLIGHT
TZOFFSETFROM:-0500
TZOFFSETTO:-0400
TZNAME:EDT
DTSTART:20190310T070000
END:DAYLIGHT
BEGIN:STANDARD
TZOFFSETFROM:-0400
TZOFFSETTO:-0500
TZNAME:EST
DTSTART:20191103T060000
END:STANDARD
END:VTIMEZONE
BEGIN:VEVENT
DTSTART;VALUE=DATE:20190914
DTEND;VALUE=DATE:20190915
DTSTAMP:20210401T120849
CREATED:20190913T111837Z
LAST-MODIFIED:20190913T111837Z
UID:173789-1568419200-1568505599@www.patriotguard.org
SUMMARY:Forever Young Veterans Welcome  Home
DESCRIPTION:HOTH Mission\nForever Young Veterans Welcome Home\n\nAthens\, Alabama – 09-14-19\n\n\n\n\nABOUT THE MISSION: \nThe Patriot Guard have been asked to provide flags and join the Celebration of Native American Veterans. We are Honored to do so\n\n\nPRIMARY STAGING DETAILS: 09-14-19 \nStaging Time: 11:00  \nLimestone County Sheriff’s Rodeo Arena\n101 W Elm St.\nAthens\, Alabama 35611\n\n\nRide Captain: \nEddie Craig \nfasteddie@pclnet.net \n256-777-2290 \n\n\nSpecial Instructions: \nPlace flags 1 American and 1 POW/MIA Ceremony begins at 12:00 Ceremony ends at 5:00 pm Pick up flags\n\nFlags & Water:\nFlags will be provided\nLarge Bike Flags will NOT be needed.\nWater WILL NOT be provided\, please bring your own.\n\nSTAGING #2 DETAILS: 09-15-19 \nStaging Time: 11:00  \nLimestone County Sheriff’s Rodeo Arena101 W Elm St.\nAthens\, Alabama 35611\n\n\nRide Captain \nEddie Craig \nfasteddie@pclnet.net \n256-777-2290 \n\n\nSpecial Instructions: \nPlace flags 1 American and 1 POW/MIA Ceremony begins at 12:00 Ceremony ends at 5:00 pm Pick up flags\n\nFlags & Water:\nFlags will be provided\nLarge Bike Flags will NOT be needed.\nWater WILL NOT be provided\, please bring your own.\n\n\n\nSubmitted By: John Cooper \nPosition: Alabama Ride Captain \n\nNote: You do not have to own/ride a motorcycle or be a veteran to join\, and membership is Free. The only requirement is RESPECT! To subscribe to receive mission notices\, log into the National Site and click on the Members tab at the top. Select the Subscribe to PGR Missions option.\n Print This Page
URL:https://www.patriotguard.org/mission/forever-young-veterans-welcome-home-2/
CATEGORIES:HOTH Mission
END:VEVENT
END:VCALENDAR