BEGIN:VCALENDAR
VERSION:2.0
PRODID:-//Patriot Guard Riders - ECPv5.3.2.1//NONSGML v1.0//EN
CALSCALE:GREGORIAN
METHOD:PUBLISH
X-WR-CALNAME:Patriot Guard Riders
X-ORIGINAL-URL:https://www.patriotguard.org
X-WR-CALDESC:Events for Patriot Guard Riders
BEGIN:VTIMEZONE
TZID:America/New_York
BEGIN:DAYLIGHT
TZOFFSETFROM:-0500
TZOFFSETTO:-0400
TZNAME:EDT
DTSTART:20190310T070000
END:DAYLIGHT
BEGIN:STANDARD
TZOFFSETFROM:-0400
TZOFFSETTO:-0500
TZNAME:EST
DTSTART:20191103T060000
END:STANDARD
END:VTIMEZONE
BEGIN:VEVENT
DTSTART;VALUE=DATE:20190721
DTEND;VALUE=DATE:20190723
DTSTAMP:20210404T020707
CREATED:20190720T121324Z
LAST-MODIFIED:20190720T121324Z
UID:168337-1563667200-1563839999@www.patriotguard.org
SUMMARY:Forest “Butch” Burton
DESCRIPTION:Honor Mission\nForest “Butch” Burton\nUSN – Vietnam\nLexington\, Kentucky – 07-21-19\n\n\n\nABOUT THE MISSION: \nWe have been invited by the family of Seaman Forest Burton to stand in his honor. Mr. Burton served our country with courage and honor in the United States Navy during the Vietnam War. It will be our honor to do so.\n\n\nPRIMARY STAGING DETAILS: 07-21-19 \nStaging Time: 3:30 PM\n \nKerr Brothers Funeral Home\n3421 Harrodsburg Rd\nLexington\, Kentucky 40513\n\n\nRide Captain: \nKelly Shehan\n859-619-8158\n\n\nSpecial Instructions: \nStake Flags and stand a flag line.\nVisitation will be 4-9 pm\n\n\nFlags & Water:\nFlags will be provided\nLarge Bike Flags will NOT be needed.\nWater WILL NOT be provided\, please bring your own.\n\nSTAGING #2 DETAILS: 07-22-19 \nStaging Time: 09:30 AM\n \nKerr Brothers Funeral Home\n3421 Harrodsburg Rd\nLexington\, Kentucky 40513\n\n\nRide Captain: \nKelly Shehan\n859-619-8158\n\n\nSpecial Instructions: \nStake flags and flag line.\nFuneral services will be held 10:30 am.\nEscort to Camp Nelson National Cemetery following services.\n\n\nFlags & Water:\nFlags will be provided\nIf you have large bike flags\, please bring them.\nWater WILL NOT be provided\, please bring your own.\n\n\n\nSubmitted By: Kelly Shehan \nPosition: Kentucky Ride Captain \n\nNote: You do not have to own/ride a motorcycle or be a veteran to join\, and membership is Free. The only requirement is RESPECT! To subscribe to receive mission notices\, log into the National Site and click on the Members tab at the top. Select the Subscribe to PGR Missions option.\n Print This Page
URL:https://www.patriotguard.org/mission/forest-butch-burton/
CATEGORIES:Honor Mission
END:VEVENT
END:VCALENDAR