BEGIN:VCALENDAR
VERSION:2.0
PRODID:-//Patriot Guard Riders - ECPv5.3.2.1//NONSGML v1.0//EN
CALSCALE:GREGORIAN
METHOD:PUBLISH
X-WR-CALNAME:Patriot Guard Riders
X-ORIGINAL-URL:https://www.patriotguard.org
X-WR-CALDESC:Events for Patriot Guard Riders
BEGIN:VTIMEZONE
TZID:America/New_York
BEGIN:DAYLIGHT
TZOFFSETFROM:-0500
TZOFFSETTO:-0400
TZNAME:EDT
DTSTART:20190310T070000
END:DAYLIGHT
BEGIN:STANDARD
TZOFFSETFROM:-0400
TZOFFSETTO:-0500
TZNAME:EST
DTSTART:20191103T060000
END:STANDARD
END:VTIMEZONE
BEGIN:VEVENT
DTSTART;VALUE=DATE:20190921
DTEND;VALUE=DATE:20190922
DTSTAMP:20210401T024251
CREATED:20190919T032215Z
LAST-MODIFIED:20190919T032215Z
UID:174864-1569024000-1569110399@www.patriotguard.org
SUMMARY:Floyd Elliot Norton Jr.
DESCRIPTION:Honor Mission\nFloyd Elliot Norton Jr.\, Veteran\nUSA – Vietnam\nMcGregor\, Texas – 09-21-19\n\n\n\nABOUT THE MISSION: \nSergeant Floyd Elliot Norton Jr. served in the United States Marine Corp\, where he received five of six possible honors including Private First Class\, Highest Shooter of the Platoon\, Honor Man of the Platoon\, Outstanding Recruit at Paris Island\, Platoon Leader\, the Marine Corps Leatherneck Award\, and Sergeant.\nObituary\n\n\nPRIMARY STAGING DETAILS: 09-21-19 \nStaging Time: 10:05 AM\n \nCole Funeral Home\n1113 W 5th Street\nMcGregor\, Texas 76657\nMap\n\n\nRide Captain: \nHolly “Holler” Melendez\n254.931.0127\nInVamous_Kai@yahoo.com\n\n\nSpecial Instructions: \nStaging Time: 10:05 A.M.\nBriefing: 10:15 A.M.\nFlagline Establishment: 10:25 +/-\nOnce the Funeral Service begins; we will strike the flagline and depart quietly.\nWX: A 20 percent chance of showers and thunderstorms. Partly sunny\, with a high near 90. South southeast wind 10 to 15 mph.\n\n\nFlags & Water:\nFlags will be provided\nLarge Bike Flags will NOT be needed.\nWater will be provided.\n\n\n\nSubmitted By: Holly Melendez \nPosition: Texas Ride Captain \n\nNote: You do not have to own/ride a motorcycle or be a veteran to join\, and membership is Free. The only requirement is RESPECT! To subscribe to receive mission notices\, log into the National Site and click on the Members tab at the top. Select the Subscribe to PGR Missions option.\n Print This Page
URL:https://www.patriotguard.org/mission/floyd-elliot-norton-jr/
CATEGORIES:Honor Mission
END:VEVENT
END:VCALENDAR