BEGIN:VCALENDAR
VERSION:2.0
PRODID:-//Patriot Guard Riders - ECPv5.6.0//NONSGML v1.0//EN
CALSCALE:GREGORIAN
METHOD:PUBLISH
X-WR-CALNAME:Patriot Guard Riders
X-ORIGINAL-URL:https://www.patriotguard.org
X-WR-CALDESC:Events for Patriot Guard Riders
BEGIN:VTIMEZONE
TZID:America/New_York
BEGIN:DAYLIGHT
TZOFFSETFROM:-0500
TZOFFSETTO:-0400
TZNAME:EDT
DTSTART:20160313T070000
END:DAYLIGHT
BEGIN:STANDARD
TZOFFSETFROM:-0400
TZOFFSETTO:-0500
TZNAME:EST
DTSTART:20161106T060000
END:STANDARD
END:VTIMEZONE
BEGIN:VEVENT
DTSTART;TZID=America/New_York:20160820T090000
DTEND;TZID=America/New_York:20160820T110000
DTSTAMP:20210511T204348
CREATED:20160820T130000Z
LAST-MODIFIED:20191201T143442Z
UID:409780-1471683600-1471690800@www.patriotguard.org
SUMMARY:Floyd Douglas Preston\, III\, 35
DESCRIPTION:Floyd Douglas Preston\, III\, 35\nUSMC Veteran\nMillington\, TN\n20 Aug 16\n\n\n\nOur great State of Tennessee and the people of Memphis have lost another Veteran Hero Floyd Douglas Preston\, III\, a/k/a “Doug”\, 35\, passed away on Thursday\, 11 August 2016 \nHe served in the United States Marine Corps. Mr. Preston’s mother Pamela\, has invited the Patriot Guard Riders to honor him and the family. \nVISITATION: Tomorrow Saturday\, 10 – 11 AM\, August 20th\, 8\, 2016\, PGR will provide an Honor Flag line prior to the funeral service\, at: \nBelmount Missionary Baptist Church\n5885 Hamlet Road\nMillington\, Tennessee 38053 \nSTAGING: 9:45 AM \nSERVICE: 11 AM \nINTERMENT: Follows immediately after the funeral service\, PGR will escort and provide an Honor Flag line at: \nNorthridge Woodhaven Cemetery\n6755 US-51\nMillington\, Tennessee 38053 \nRCIC:\nJohnny Rivera\n901-488-7537 \nRC:\nLynne Frazier Overman\n901-494-7005 \nWEATHER: SAT 20 AUG\, THUNDERSTORMS\, 85°\, PRECIP 70% WIND SSW AT 11MPH \nNote: if you don’t own or ride a motorcycle\, automobiles are always welcome on all missions…You don’t have to be a Veteran to stand on the flag line\, to Honor a Veteran or First Responder (Police\, Fire or EMS) killed in the line of duty. Treat other PGR members with the same dignity and respect you would expect for yourself.
URL:https://www.patriotguard.org/mission/floyd-douglas-preston-iii-35/
CATEGORIES:Archive
END:VEVENT
END:VCALENDAR