BEGIN:VCALENDAR
VERSION:2.0
PRODID:-//Patriot Guard Riders - ECPv5.3.2.1//NONSGML v1.0//EN
CALSCALE:GREGORIAN
METHOD:PUBLISH
X-WR-CALNAME:Patriot Guard Riders
X-ORIGINAL-URL:https://www.patriotguard.org
X-WR-CALDESC:Events for Patriot Guard Riders
BEGIN:VTIMEZONE
TZID:America/New_York
BEGIN:DAYLIGHT
TZOFFSETFROM:-0500
TZOFFSETTO:-0400
TZNAME:EDT
DTSTART:20190310T070000
END:DAYLIGHT
BEGIN:STANDARD
TZOFFSETFROM:-0400
TZOFFSETTO:-0500
TZNAME:EST
DTSTART:20191103T060000
END:STANDARD
END:VTIMEZONE
BEGIN:VEVENT
DTSTART;VALUE=DATE:20190824
DTEND;VALUE=DATE:20190825
DTSTAMP:20210402T113902
CREATED:20190815T123909Z
LAST-MODIFIED:20190817T212431Z
UID:171018-1566604800-1566691199@www.patriotguard.org
SUMMARY:Florida Air National Guard Yellow Ribbon
DESCRIPTION:  \n\nHOTH Mission\nFlorida Air National Guard Yellow Ribbon Ceremony\nOrlando\, Florida  08-24-19\n\n\n \n\nABOUT THE MISSION: \nThe Florida ANG has invited the Patriot Guard Riders to participate in their fabulous Yellow Ribbon Ceremony. The Yellow Ribbon Program is a cooperative network of military services\, veteran service organizations\, state and local government departments and other agencies that provide information\, resources\, referral and proactive outreach to service members and their families throughout all phases of the deployment cycle. This event focuses on members that have returned from deployment\, the event focuses on reconnecting with family\, community and employer. Please bring your 3 X 5 flags to this awesome event\, as this is an opportunity for us to honor and support these patriots and their families at one time.\n\n\nPRIMARY STAGING DETAILS: 08-24-19 \nStaging Time: 3:15 PM  \nWyndham Orlando Resort\n8001 International Drive\nOrlando\, Florida 32819\nWe will Stage at our normal location (corner of International Drive and Sand Lake Road) which is the entrance to the Convention Center)\nMap\n\n\nRide Captain: \nDavid “Flyboy” Shelton\npgrfldavid@gmail.com\n321-689-4699\n\n\nSpecial Instructions: \nFollow the Post for parking instructions!!\nBrief 3:30 PM\nFlag Line as directed by the RC\n\n\nFlags & Water:\nFlags will not be provided\nLarge Bike Flags will NOT be needed.\nWater WILL NOT be provided\, please bring your own.\n\n\n\nSubmitted By: Bernie Conner \nPosition: Florida Assistant State Captain \n\nNote: You do not have to own/ride a motorcycle or be a veteran to join\, and membership is Free. The only requirement is RESPECT! To subscribe to receive mission notices\, log into the National Site and click on the Members tab at the top. Select the Subscribe to PGR Missions option.\n Print This Page
URL:https://www.patriotguard.org/mission/florida-air-national-guard-yellow-ribbon/
CATEGORIES:HOTH Mission
END:VEVENT
END:VCALENDAR