BEGIN:VCALENDAR
VERSION:2.0
PRODID:-//Patriot Guard Riders - ECPv5.6.0//NONSGML v1.0//EN
CALSCALE:GREGORIAN
METHOD:PUBLISH
X-WR-CALNAME:Patriot Guard Riders
X-ORIGINAL-URL:https://www.patriotguard.org
X-WR-CALDESC:Events for Patriot Guard Riders
BEGIN:VTIMEZONE
TZID:America/New_York
BEGIN:DAYLIGHT
TZOFFSETFROM:-0500
TZOFFSETTO:-0400
TZNAME:EDT
DTSTART:20160313T070000
END:DAYLIGHT
BEGIN:STANDARD
TZOFFSETFROM:-0400
TZOFFSETTO:-0500
TZNAME:EST
DTSTART:20161106T060000
END:STANDARD
END:VTIMEZONE
BEGIN:VEVENT
DTSTART;TZID=America/New_York:20160812T090000
DTEND;TZID=America/New_York:20160812T110000
DTSTAMP:20210512T041540
CREATED:20160812T130000Z
LAST-MODIFIED:20191201T143721Z
UID:410030-1470992400-1470999600@www.patriotguard.org
SUMMARY:Flight Officer Judson Baskett\, USAAC(KIA)
DESCRIPTION:Patriot’s Name:  FLIGHT OFFICER JUDSON BASKETT\nMission Type:  Funeral  MIA/KIA WWII with Caisson and Bagpiper\nMilitary Branch:  U S Army Air Corps\nDate of Mission:  12 August 2016 \nStaging Information:  FLAG BIKES \nStaging Time:  FLAG BIKES  9:00 \nBriefing Time:  FLAG BIKES 9:15 \nKSU:  FLAG BIKES 9:25 \nSTAGING ADDRESS  FOR  FLAG BIKES: \nAmerican Heritage Funeral Home\n10710 Veterans Memorial Dr\nHouston\, TX 77038 \nStaging Information:  NON FLAG BIKES AND CAGES \nStaging Time: 8:30 \nBriefing Time: 9:45 \nKSU: 10:00 \nSTAGING ADDRESS FOR NON FLAG BIKES AND CAGES:\nHistoric Hollywood Cemetery\n3506 N. Main\, Houston TX 77009\nat I45 North feeder \nFollow trail of small American flags to staging location in back of cemetery. There is 1 unisex bathroom in office as you enter cemetery. Also in McDonalds across freeway overpass. \nMission Details: We will STAND TALL AND SILENT on a flag line at the cemetery.\nWe will also have a rolling tribute to the cemetery. \nObituary: Flight Officer Baskett \, along with his copilot and radio operator\, were declared MISSING IN ACTION\, then later declared officially KILLED IN ACTION on 28 November 1946. The 3 crewmen were part of the 1305th Army Air Force Base. The C-47 crashed into a jungle covered mountain slope. Flares were spotted by American and Royal Air Force search planes but no results were reported. In 1966\, a Malaysian cutting sugarcane discovered the crash site. Reports and photographs made by the police were relayed to the Malaysian Ministry of Defense who notified the U.S. embassy. In 1985\, the wreckage was rediscovered by 2 local men. In 2009\, locals again rediscovered the wreckage and photographed it. Finally\, the report was acknowledged. A group of researchers from the Malaya Historical Group\, along with several next-of-kin\, worked tirelessly since 2012 to lobby to bring our heroes home. In 2015\, during “OPERATION GANGGA”\, teams from the Royal Malaysian Armed Forces and our DEFENSE POW/MIA ACCOUNTING AGENCY\, visited the site and performed a remains recovery mission. About 110 personnel were involved in this recovery mission. Secretary of Defense Ashton Carter attended the  dignified transfer ceremony in Asia\, where four Malasian soldiers handed the wooden box to U.S. troops. After 70 years\, it is our honor\, to welcome Flight Officer Baskett home. \nStand down sir. Your job is done. Rest easy. You are home. \nPLEASE COME OUT AND STAND PROUD FOR THIS AMERICAN HERO.\nHe has waited 70 years. \nCO-LEAD Ride Captain:\nGeorge Pelkey\n713-376-2812\ngeorgepelkey@prodigy.net \nCO-LEAD Ride Captain:\nDee Goff\n281-468-5488\njgoffsr@aol.com \nRC #3:\nPaul Babb (ROAD GUARDS and LEO LIAISON)\n936-537-6223 \nSupport Vehicle/RC: Ken Strube\n281-250-7659\nkstrube1@windstream.net \nWeather Forecast:  VERY HOT\, Temp high 90’s \n*Please hydrate well before & during the mission. \n“All Groups\, Clubs\, Independents\, ETC. are welcome.
URL:https://www.patriotguard.org/mission/flight-officer-judson-baskett-usaackia/
END:VEVENT
END:VCALENDAR