BEGIN:VCALENDAR
VERSION:2.0
PRODID:-//Patriot Guard Riders - ECPv5.6.0//NONSGML v1.0//EN
CALSCALE:GREGORIAN
METHOD:PUBLISH
X-WR-CALNAME:Patriot Guard Riders
X-ORIGINAL-URL:https://www.patriotguard.org
X-WR-CALDESC:Events for Patriot Guard Riders
BEGIN:VTIMEZONE
TZID:America/New_York
BEGIN:DAYLIGHT
TZOFFSETFROM:-0500
TZOFFSETTO:-0400
TZNAME:EDT
DTSTART:20160313T070000
END:DAYLIGHT
BEGIN:STANDARD
TZOFFSETFROM:-0400
TZOFFSETTO:-0500
TZNAME:EST
DTSTART:20161106T060000
END:STANDARD
END:VTIMEZONE
BEGIN:VEVENT
DTSTART;TZID=America/New_York:20160809T090000
DTEND;TZID=America/New_York:20160809T110000
DTSTAMP:20210511T203354
CREATED:20160809T130000Z
LAST-MODIFIED:20191201T143803Z
UID:410097-1470733200-1470740400@www.patriotguard.org
SUMMARY:Flight Officer Judson Baskett\, USAAC
DESCRIPTION:Patriot’s Name:  FLIGHT OFFICER             JUDSON BASKETT\nMission Type:  MIA/KIA WWII             Airport Repatriation and Escort\nMilitary Branch:  U S Army Air             Corps\n\nDate of Mission:  9 August 2016\nStaging Time:  8:30 a.m.\nBriefing Time:  9:15 a.m.\nIn position time:  9:45 a.m.\nStaging Address:  Bush Airport\,             Cell Phone Lot\, 5101 Will Clayton Parkway\n(at Wright Road) West of Lee             Road\, Houston\, Tx  77032\n\nMission Details: We will give             honors as Flight Officer Baskett is repatriated during  a             dignified transfer at Bush Airport. We will then escort him             and his family with LEO escort and with the help of our PGR             Road Guards to American Heritage Funeral Home on Veterans             Memorial Drive in Houston\, Tx.\n\nObituary: Flight Officer Baskett             \, along with his copilot and radio operator\, were declared             MISSING IN ACTION\, then officially KILLED IN ACTION on 28             November 1946. The 3 crewmen were part of the 1305th Army             Air Force Base.\n\nThe C-47 crashed into a jungle             covered mountain slope. Flares were spotted by American and             Royal Air Force search planes but no results were reported.\n\nIn 1966\, a Malaysian cutting             sugarcane discovered the crash site. Reports and photographs             made by the police were relayed to the Malaysian Ministry of             Defense who notified the U.S. embassy.\n\nIn 1985\, the wreckage was             rediscovered by 2 local men.\n\nIn 2009\, locals again             rediscovered the wreckage and photographed it. Finally\, the             report was acknowledged.\n\nA group of researchers from the             Malaya Historical Group\, along with several next-of-kin\,             worked tirelessly since 2012 to lobby to bring our heroes             home.\n\nIn 2015\, during “OPERATION             GANGGA”\, teams from the Royal Malaysian Armed Forces and our             DEFENSE POW/MIA ACCOUNTING AGENCY\, visited the site and             performed a remains recovery mission. About 110 personnel             were involved in this recovery mission.\nSecretary of Defense Ashton             Carter attended the  dignified transfer ceremony in Asia\,             where four Malaysian soldiers handed the wooden box to U.S.             troops.\n\nAfter 70 years\, it is our honor\,             to welcome Flight Officer Baskett home. \nStand down sir. Your job is done.\nRest easy. You are home. \nPLEASE COME OUT AND STAND PROUD             FOR THIS AMERICAN HERO. He has waited 70 years. \nCO-LEAD Ride Captain:  Dee Goff\nRC phone number: 281-468-5488\nRC email address: jgoffsr@aol.com\n\nCO-LEAD Ride Captain:  George             Pelkey (Semper Gumby Negotiator)\nRC phone number:  713-376-2812\nRC email address:             georgepelkey@prodigy.net \nRC #3:  Paul Babb (ROAD GUARDS             and LEO LIAISON)\nRC #3:  phone number:              936-537-6223 \nRC #4:  Harold Woolley             (Motorcycles and cages escorts)\nRC #4:  phone number:              281-413-0789\n\nRC #5:  Stan Brown (Tarmac Lead)\nRC #5 phone number:  832-865-2384 \nRide Captain and Support             Vehicle:  Ken Strube\nSV Phone number:  281-250-7659\nSV Email address:             kstrube1@windstream.net \nWeather Forecast:  VERY HOT\, Temp             high 90’s\n\n*Please hydrate well before &             during the mission. \n“All Groups\, Clubs\, Independents\,             ETC. are welcome.  The prerequisite is Respect and following PGR Code             of Conduct.  You do not have to \nride a motorcycle to join in.”
URL:https://www.patriotguard.org/mission/flight-officer-judson-baskett-usaac/
CATEGORIES:Archive
END:VEVENT
END:VCALENDAR