BEGIN:VCALENDAR
VERSION:2.0
PRODID:-//Patriot Guard Riders - ECPv5.3.2.1//NONSGML v1.0//EN
CALSCALE:GREGORIAN
METHOD:PUBLISH
X-WR-CALNAME:Patriot Guard Riders
X-ORIGINAL-URL:https://www.patriotguard.org
X-WR-CALDESC:Events for Patriot Guard Riders
BEGIN:VTIMEZONE
TZID:America/New_York
BEGIN:DAYLIGHT
TZOFFSETFROM:-0500
TZOFFSETTO:-0400
TZNAME:EDT
DTSTART:20170312T070000
END:DAYLIGHT
BEGIN:STANDARD
TZOFFSETFROM:-0400
TZOFFSETTO:-0500
TZNAME:EST
DTSTART:20171105T060000
END:STANDARD
END:VTIMEZONE
BEGIN:VEVENT
DTSTART;TZID=America/New_York:20170326T121500
DTEND;TZID=America/New_York:20170326T141500
DTSTAMP:20210403T045301
CREATED:20170326T161500Z
LAST-MODIFIED:20191201T030452Z
UID:309353-1490530500-1490537700@www.patriotguard.org
SUMMARY:Flag Refolding Ceremony
DESCRIPTION:Flag Refolding Ceremony \n\nMesa\, Arizona – 26 Mar 2017\n\n\n\n[HR][/HR] \n\n\n\n\nABOUT THE MISSION: \nThe family has requested the Patriot Guard Riders do a honorable re-fold   of the Interment American Flag of Joseph Holmes and it shall be our   honor to do so. \nIn the fall of 2016\, Joseph Holmes passed away. Literally within a few   days of his passing\, their home burned to the ground. The wife was able   to save herself\, his cremains and the damaged interment flag. The flag   has been salvaged\, restored and preserved. It is now time to provide an   honorable service to re-fold this flag. \nPRIMARY STAGING DETAILS:  26 Mar 2017\n \n\n\n\nPrimary Staging Time:  12:15 pm\n\nWalgreen’s parking lot\n1178 S. Crismon Road\n\nMesa\, Arizona – 85028\n\n\n\n\n\n \n\n\n\nRide Captain:\n\nBill Wildhorse\n585-447-0471\nbillwooster55@yahoo.com \nFlag Support Vehicle Person:   TBD\n\n\n\n \n\n\n\nSpecial Instructions:\n\nBriefing Time:    12:30 pm\nAt 12:55 pm we will proceed to family home for ceremony.\n\n\n\n \n\n\n\nFlags & Water:\n\nFlags will be provided\n\nIf you have large bike flags\, please bring them.\n\nWater will be provided.\n\n \nSubmitted By:  Tom Burns\nPosition:  Assistant State Captain \n\n[HR][/HR]\nNote:\n\nYou do not have to own/ride a motorcycle or be a Veteran to join and membership is Free. The only requirement is RESPECT! To join\, simply go to Patriot Guard website and click on Register. Membership is Free. \nTo subscribe to receive mission notices\, log into the National Site and   click on the Mission Tab at the top. Select Upcoming Missions by State.   Scroll to the state(s) you would like to receive notices for and click   on the green check mark. Detailed instructions are also located in the   FAQs on the site by clicking on the Quick Links Tab and selecting FAQs.
URL:https://www.patriotguard.org/mission/flag-refolding-ceremony/
END:VEVENT
END:VCALENDAR