BEGIN:VCALENDAR
VERSION:2.0
PRODID:-//Patriot Guard Riders - ECPv5.3.2.1//NONSGML v1.0//EN
CALSCALE:GREGORIAN
METHOD:PUBLISH
X-WR-CALNAME:Patriot Guard Riders
X-ORIGINAL-URL:https://www.patriotguard.org
X-WR-CALDESC:Events for Patriot Guard Riders
BEGIN:VTIMEZONE
TZID:America/New_York
BEGIN:DAYLIGHT
TZOFFSETFROM:-0500
TZOFFSETTO:-0400
TZNAME:EDT
DTSTART:20190310T070000
END:DAYLIGHT
BEGIN:STANDARD
TZOFFSETFROM:-0400
TZOFFSETTO:-0500
TZNAME:EST
DTSTART:20191103T060000
END:STANDARD
END:VTIMEZONE
BEGIN:VEVENT
DTSTART;VALUE=DATE:20190704
DTEND;VALUE=DATE:20190705
DTSTAMP:20210403T182751
CREATED:20190702T155817Z
LAST-MODIFIED:20190702T160010Z
UID:166442-1562198400-1562284799@www.patriotguard.org
SUMMARY:Flag Raising Ceremony
DESCRIPTION:HOTH Mission\nFlag Raising Ceremony\nLehi\, Utah – 07-04-19\n\n\n\nABOUT THE MISSION: \nThe Patriot Guard Riders have been requested to stand a flag-line for a Flag Raising Ceremony.  This will be a HOTH format.  The ceremony will be at Leisure Villas at Pioneer Crossing on 1281 S 50 E in Lehi at 8:30 am on Thursday\, July 04\, 2019.  We will ride into the community and park surrounding the newly installed flag pole. We will then stand a flag-line during a brief ceremony honoring the veterans in the community.  Thank you\, to everyone that serves and served\, for your service.  Anyone attending in a cage and willing to transport flags please contact Scott Anderson: 801-699-3034.\n\n\nPRIMARY STAGING DETAILS: 07-04-19 \nStaging: 7:45 am  \nMaverik\n1075 S 1100 W\nLehi\, Utah\n\n\nRide Captain: \nScott Anderson\n801-699-3034\n\n\nSpecial Instructions: \nKSU: 8:15 am\nWeather: Mostly sunny with a high of 88.  Please dress accordingly and keep yourself hydrated.\n\n\nFlags & Water:\nFlags will be provided\nIf you have large bike flags\, please bring them.\nWater WILL NOT be provided\, please bring your own.\n\nSubmitted By: Dave Richardson \nPosition: Utah State Captain \n\nNote: You do not have to own/ride a motorcycle or be a veteran to join\, and membership is Free. The only requirement is RESPECT! To subscribe to receive mission notices\, log into the National Site and click on the Members tab at the top. Select the Subscribe to PGR Missions option.\n Print This Page
URL:https://www.patriotguard.org/mission/flag-raising-ceremony-3/
CATEGORIES:HOTH Mission
END:VEVENT
END:VCALENDAR