BEGIN:VCALENDAR
VERSION:2.0
PRODID:-//Patriot Guard Riders - ECPv5.6.0//NONSGML v1.0//EN
CALSCALE:GREGORIAN
METHOD:PUBLISH
X-WR-CALNAME:Patriot Guard Riders
X-ORIGINAL-URL:https://www.patriotguard.org
X-WR-CALDESC:Events for Patriot Guard Riders
BEGIN:VTIMEZONE
TZID:America/New_York
BEGIN:DAYLIGHT
TZOFFSETFROM:-0500
TZOFFSETTO:-0400
TZNAME:EDT
DTSTART:20160313T070000
END:DAYLIGHT
BEGIN:STANDARD
TZOFFSETFROM:-0400
TZOFFSETTO:-0500
TZNAME:EST
DTSTART:20161106T060000
END:STANDARD
END:VTIMEZONE
BEGIN:VEVENT
DTSTART;TZID=America/New_York:20160628T090000
DTEND;TZID=America/New_York:20160628T110000
DTSTAMP:20210512T211213
CREATED:20160628T130000Z
LAST-MODIFIED:20191201T144737Z
UID:410976-1467104400-1467111600@www.patriotguard.org
SUMMARY:Fay Barnes\, USA
DESCRIPTION:We have been invited by the family of Fay Barnes to honor his life and service to his country. We will stand a flag line at his interment on Tuesday 28 Jun 16. A service will be held at the Idaho State Veterans Cemetery\, 10100 Old Horseshoe Bend Rd. Boise\, Id. at 1100 hrs. \nFay Barnes served in the US Army from Jan 1943 to Dec 1945 as a PFC. He was assigned in the Pacific Theater. \nStaging: 1000 hrs 28 Jun 16\, Winco parking lot\, adjacent to Oil Can Henrys\, corner of State St. and Old Horseshoe Bend Rd.\nBriefing/Updates: 1025 hrs\nKSU: 1030 hrs. Ride as a group to ISVC and establish flag line on arrival. \nRCIC Dario Bell (dariobell@cableone.net) 515-6959 \nWeather: HOT. Stay Hydrated.
URL:https://www.patriotguard.org/mission/fay-barnes-usa/
CATEGORIES:Archive
END:VEVENT
END:VCALENDAR