BEGIN:VCALENDAR
VERSION:2.0
PRODID:-//Patriot Guard Riders - ECPv5.6.0//NONSGML v1.0//EN
CALSCALE:GREGORIAN
METHOD:PUBLISH
X-WR-CALNAME:Patriot Guard Riders
X-ORIGINAL-URL:https://www.patriotguard.org
X-WR-CALDESC:Events for Patriot Guard Riders
BEGIN:VTIMEZONE
TZID:America/New_York
BEGIN:DAYLIGHT
TZOFFSETFROM:-0500
TZOFFSETTO:-0400
TZNAME:EDT
DTSTART:20210314T070000
END:DAYLIGHT
BEGIN:STANDARD
TZOFFSETFROM:-0400
TZOFFSETTO:-0500
TZNAME:EST
DTSTART:20211107T060000
END:STANDARD
END:VTIMEZONE
BEGIN:VEVENT
DTSTART;VALUE=DATE:20210512
DTEND;VALUE=DATE:20210513
DTSTAMP:20210511T123846
CREATED:20210509T230514Z
LAST-MODIFIED:20210509T230514Z
UID:576907-1620777600-1620863999@www.patriotguard.org
SUMMARY:Fallen Officers Memorial
DESCRIPTION:HOTH Mission\nFallen Officers Memorial\n–\nAnderson\, South Carolina – 05-12-21\n\n\n\nABOUT THE MISSION: \nThis is a one part mission\, please read the entire email. The Anderson Police Department has requested the PGR to provide an escort for the procession to honor all fallen officers. It will be a privilege and honor to fulfill that request.\n\n\nPRIMARY STAGING DETAILS: 05-12-21 \nStaging Time: 4:15 PM\n \nAnderson Mall\n3131 N. Main Street\nAnderson\, South Carolina 29621\nMap\n\n\nRide Captain: \nRick Markt\n803-979-3112\nslik48git@gmail.Com\n\n\nSpecial Instructions: \nWe will stage in the parking lot of the Anderson Mall. This is an escort only mission.\nFollowing the briefing we will prepare for the escort of approximately 3 miles to the Anderson County Courthouse with LEO lead and following units.\nBriefing: 4:30 PM\nKSU at 5:00 PM. At the completion of the escort you may proceed through and depart or park and view the memorial displays of the Fallen officers.\nIf you are flying large bike flags please inspect all mounting hardware for safety.\nAll Covid19 protocols and rules in effect will be observed. Each PGR member is required to bring a face covering/mask.\n\n\nFlags & Water:\nFlags will not be provided\nIf you have large bike flags\, please bring them.\nWater WILL NOT be provided\, please bring your own.\n\n\nSubmitted By: India Rackley \nPosition: South Carolina Assistant State Captain \n\nNote: You do not have to own/ride a motorcycle or be a veteran to join\, and membership is Free. The only requirement is RESPECT! To subscribe to receive mission notices\, log into the National Site and click on the Members tab at the top. Select the Subscribe to PGR Missions option.\n Print This Page
URL:https://www.patriotguard.org/mission/fallen-officers-memorial-2/
CATEGORIES:HOTH Mission
END:VEVENT
END:VCALENDAR