BEGIN:VCALENDAR
VERSION:2.0
PRODID:-//Patriot Guard Riders - ECPv5.6.0//NONSGML v1.0//EN
CALSCALE:GREGORIAN
METHOD:PUBLISH
X-WR-CALNAME:Patriot Guard Riders
X-ORIGINAL-URL:https://www.patriotguard.org
X-WR-CALDESC:Events for Patriot Guard Riders
BEGIN:VTIMEZONE
TZID:America/New_York
BEGIN:DAYLIGHT
TZOFFSETFROM:-0500
TZOFFSETTO:-0400
TZNAME:EDT
DTSTART:20160313T070000
END:DAYLIGHT
BEGIN:STANDARD
TZOFFSETFROM:-0400
TZOFFSETTO:-0500
TZNAME:EST
DTSTART:20161106T060000
END:STANDARD
END:VTIMEZONE
BEGIN:VEVENT
DTSTART;TZID=America/New_York:20160623T090000
DTEND;TZID=America/New_York:20160623T110000
DTSTAMP:20210513T124714
CREATED:20160623T130000Z
LAST-MODIFIED:20191201T144901Z
UID:411099-1466672400-1466679600@www.patriotguard.org
SUMMARY:Fabian Sanchez III\, USA\, GWOT / Salinas
DESCRIPTION:The Patriot Guard Riders have been requested to Escort US ARMY Veteran Fabian Sanchez III to his final resting place. Fabian Sanchez III\, passed away unexpectedly on Friday\, June 17\, 2016 in Castroville\, CA. He was born on September 17\, 1985 in Hindville\, Georgia. Fabian had proudly served in the U.S. Army during the Iraq War and was honorably discharged.  Please bring your Flags and let’s Honor this young man and his Family.\n\nWHO: Fabian Sanchez III US ARMY \nWHEN: Thursday June 23rd\, 2016\n\nSTAGING TIME: 0830 hrs \nSTAGING AREA: Healey Mortuary 405 N. Sanborn Rd. Salinas Ca  \nhttp://mapq.st/28PK28m\n\nDESTINATION: San Joaquin Valley National Cemetery. \nRIDE CAPTAIN: Hy Libby hlibby@sbcglobal.net
URL:https://www.patriotguard.org/mission/fabian-sanchez-iii-usa-gwot-salinas/
CATEGORIES:Archive
END:VEVENT
END:VCALENDAR