BEGIN:VCALENDAR
VERSION:2.0
PRODID:-//Patriot Guard Riders - ECPv5.3.2.1//NONSGML v1.0//EN
CALSCALE:GREGORIAN
METHOD:PUBLISH
X-WR-CALNAME:Patriot Guard Riders
X-ORIGINAL-URL:https://www.patriotguard.org
X-WR-CALDESC:Events for Patriot Guard Riders
BEGIN:VTIMEZONE
TZID:America/New_York
BEGIN:DAYLIGHT
TZOFFSETFROM:-0500
TZOFFSETTO:-0400
TZNAME:EDT
DTSTART:20120311T070000
END:DAYLIGHT
BEGIN:STANDARD
TZOFFSETFROM:-0400
TZOFFSETTO:-0500
TZNAME:EST
DTSTART:20121104T060000
END:STANDARD
END:VTIMEZONE
BEGIN:VEVENT
DTSTART;TZID=America/New_York:20121216T090000
DTEND;TZID=America/New_York:20121216T110000
DTSTAMP:20210403T025622
CREATED:20121216T140000Z
LAST-MODIFIED:20191201T030002Z
UID:302906-1355648400-1355655600@www.patriotguard.org
SUMMARY:Extremely Short Notice - Paul Brady\, US Navy Corpsman
DESCRIPTION:The family of Paul Brady\, Korean Veteran and former US Navy Corpsman has requested the Patriot Guard Riders stand a flag line to honor Mr Brady.  The flag line will be for visitation only and will be Sunday December 16 from 2:00 PM to 4:00 PM at Floral Hills Funeral Home\,  Tucker\, GA.  There will be a short escort by the American Legion Riders escorting the family from the family home to Floral Hills Funeral Home.\n\nEscort Staging: \n1:00 PM\nKroger Shopping Center\n4367 Lawrenceville Hwy.\nTucker\, GA \nFlag Line Staging:\n1:15 PM\nFloral Hills Funeral Home\n3150 Lawrenceville Hwy.\nTucker\, GA \nRCIC:\nPam “Keeperofpeace” Long\nCell:  404-376-2887
URL:https://www.patriotguard.org/mission/extremely-short-notice-paul-brady-us-navy-corpsman/
END:VEVENT
END:VCALENDAR