BEGIN:VCALENDAR
VERSION:2.0
PRODID:-//Patriot Guard Riders - ECPv5.3.2.1//NONSGML v1.0//EN
CALSCALE:GREGORIAN
METHOD:PUBLISH
X-WR-CALNAME:Patriot Guard Riders
X-ORIGINAL-URL:https://www.patriotguard.org
X-WR-CALDESC:Events for Patriot Guard Riders
BEGIN:VTIMEZONE
TZID:America/New_York
BEGIN:DAYLIGHT
TZOFFSETFROM:-0500
TZOFFSETTO:-0400
TZNAME:EDT
DTSTART:20180311T070000
END:DAYLIGHT
BEGIN:STANDARD
TZOFFSETFROM:-0400
TZOFFSETTO:-0500
TZNAME:EST
DTSTART:20181104T060000
END:STANDARD
END:VTIMEZONE
BEGIN:VEVENT
DTSTART;VALUE=DATE:20181121
DTEND;VALUE=DATE:20181122
DTSTAMP:20210401T173147
CREATED:20181119T223459Z
LAST-MODIFIED:20181119T223529Z
UID:141801-1542758400-1542844799@www.patriotguard.org
SUMMARY:Everett Miller
DESCRIPTION:Honor Mission\nEverett Miller\, Veteran\nUSA – WWII\nLincoln\, Nebraska – 11-21-18\n\n\n\n\nABOUT THE MISSION: \nThe family of WWII Veteran Everett Dwight Miller\, 100\, has requested the Patriot Guard Riders provide a Flag Line at his funeral service on Wednesday\, November 21 at 10:00 a.m. at Northeast United Church of Christ\, 6200 Adams\, Lincoln\, NE 68507. In 1941 he joined the US Army. He served in the headquarters of the 204th Field Artillery Battalion in Europe. In 1945 he was honorably discharged. Upon his return he worked in the publications section of the Veterans Administration. From there he worked at the US Post Office for 30 years until he retired.\n\n\nPRIMARY STAGING DETAILS: 11-21-18 \nStaging Time: 09:00 AM\n \nNortheast United Church of Christ\n6200 Adams\nLincoln\, Nebraska 68507\n\n\nRide Captain: \nMarv Peters\npeters_marv@yahoo.com\n402-853-1455\n\nFLAG CAPTAIN NEEDED! Please contact RC Peters or SC Knudsen if you can help.\n\n\nSpecial Instructions: \nRIDERS MEETING: 9:20 AM\nFLAG LINE: 9:30 AM\nFUNERAL SERVICE: 10:00 AM\nThere will be no graveside service at this time.\nSafety being paramount – ride only if conditions permit. The Nebraska Patriot Guard Riders have been recognized by the National Safety Council and the Nebraska Office of Highway Safety for adhering to and promoting motorcycle safety. Ride Alert – Ride Safe.\nThe PGR proudly acknowledge being created by a small group of visionary American Legion Riders.\n\n\nFlags & Water:\nFlags will be provided\nLarge Bike Flags will NOT be needed.\nWater WILL NOT be provided\, please bring your own.\n\n\n\nSubmitted By: Scott Knudsen \nPosition: Nebraska State Captain \n\nNote: You do not have to own/ride a motorcycle or be a veteran to join\, and membership is Free. The only requirement is RESPECT! To subscribe to receive mission notices\, log into the National Site and click on the Members tab at the top. Select the Subscribe to PGR Missions option.\n Print This Page
URL:https://www.patriotguard.org/mission/everett-miller/
CATEGORIES:Honor Mission
END:VEVENT
END:VCALENDAR