BEGIN:VCALENDAR
VERSION:2.0
PRODID:-//Patriot Guard Riders - ECPv5.3.2.1//NONSGML v1.0//EN
CALSCALE:GREGORIAN
METHOD:PUBLISH
X-WR-CALNAME:Patriot Guard Riders
X-ORIGINAL-URL:https://www.patriotguard.org
X-WR-CALDESC:Events for Patriot Guard Riders
BEGIN:VTIMEZONE
TZID:America/New_York
BEGIN:DAYLIGHT
TZOFFSETFROM:-0500
TZOFFSETTO:-0400
TZNAME:EDT
DTSTART:20170312T070000
END:DAYLIGHT
BEGIN:STANDARD
TZOFFSETFROM:-0400
TZOFFSETTO:-0500
TZNAME:EST
DTSTART:20171105T060000
END:STANDARD
END:VTIMEZONE
BEGIN:VEVENT
DTSTART;TZID=America/New_York:20170908T130000
DTEND;TZID=America/New_York:20170908T150000
DTSTAMP:20210402T030433
CREATED:20170908T170000Z
LAST-MODIFIED:20191201T030408Z
UID:308746-1504875600-1504882800@www.patriotguard.org
SUMMARY:Everett Manakaja Sr\, Veteran\, USA - WW II
DESCRIPTION:PFC Everett Manakaja Sr.\, Veteran\nUSA  – WW II\nKingman\, Arizona – 08 Sep 2017\n\n\n[HR][/HR]\nABOUT THE MISSION:\n\n \n\nThe last of the Hualapai Tribe’s WW II Veterans\, passed on Monday\, August 31\, 2017\, at the age of 93. \nPFC Manakaja served as a rifleman in WW II in MacArthur’s 149th Infantry  38th Div. from 1943 – 1945. He served in New Guinea\, Southern  Philippines and in the Invasion of Luzon.  He was awarded the Purple  Heart\, Good Conduct Medal\, American Campaign Medal\, Asiatic-Pacific  Campaign Medal\, Philippine Liberation Ribbon w. two bronze Stars and the  WW II Victory Medal. \nThe PGR has the honor of having been requested to escort our hero home to Peach Springs\, AZ.\n\n\nPRIMARY STAGING DETAILS:  08 Sep 2017\nPrimary Staging Time: 1:00 P.M. \n\nSutton Memorial Funeral Home\n1701 Sycamore Ave\nKingman\, Arizona – 86409\nhttps://goo.gl/x3e7ih\n\n\n\nRide Captain: \n\nScott Henry\n(928) 727-4522\npgr.scott@gmail.com\n\n\nSpecial Instructions: \n\nWe will stage at Sutton’s and escort to the Hualapai Tribal Gym in Peach Springs; the service begins at 3:00 P.M. \nWe expect to be KSU at no later than 1:45 P.M. but please be early. \nPeach Springs is about an hour from Kingman to the northeast. Please  come prepared for a variety of weather\, temperatures and fueled for the  ride.\n\n\nFlags & Water: \n\nFlags Will Not Be Needed\nLarge Bike Flags will NOT be needed.\nWater WILL NOT be provided\, please bring your own.\n\n \nSubmitted By: Scott Henry\nPosition: Ride Captain\n[HR][/HR]Note:\n\nYou do not have to own/ride a motorcycle or be a Veteran to join and membership is Free. The only requirement is RESPECT! To join\, simply go to www.PatriotGuard.org and click on Register. Membership is Free. \nTo subscribe to receive mission notices\, log into the National Site and click on the Mission Tab at the top. Select the Subscribe to Missions option.
URL:https://www.patriotguard.org/mission/everett-manakaja-sr-veteran-usa-ww-ii/
END:VEVENT
END:VCALENDAR