BEGIN:VCALENDAR
VERSION:2.0
PRODID:-//Patriot Guard Riders - ECPv5.3.2.1//NONSGML v1.0//EN
CALSCALE:GREGORIAN
METHOD:PUBLISH
X-WR-CALNAME:Patriot Guard Riders
X-ORIGINAL-URL:https://www.patriotguard.org
X-WR-CALDESC:Events for Patriot Guard Riders
BEGIN:VTIMEZONE
TZID:America/New_York
BEGIN:DAYLIGHT
TZOFFSETFROM:-0500
TZOFFSETTO:-0400
TZNAME:EDT
DTSTART:20190310T070000
END:DAYLIGHT
BEGIN:STANDARD
TZOFFSETFROM:-0400
TZOFFSETTO:-0500
TZNAME:EST
DTSTART:20191103T060000
END:STANDARD
END:VTIMEZONE
BEGIN:VEVENT
DTSTART;VALUE=DATE:20190617
DTEND;VALUE=DATE:20190618
DTSTAMP:20210405T124151
CREATED:20190615T164314Z
LAST-MODIFIED:20190615T164434Z
UID:164850-1560729600-1560815999@www.patriotguard.org
SUMMARY:Everett Deakyne
DESCRIPTION:Honor Mission\nEverett Deakyne\, Veteran\nUSA\nAnnville\, Pennsylvania – 06-17-19\n\n\n\nABOUT THE MISSION: \nThe family of Army Veteran Private First Class Everett Deakyne has requested the Patriot Guard Riders stand to honor his service to our nation at his interment ceremony Monday\, June 17\, 2019 at Indiantown Gap National Cemetery with full military honors.  PFC Deakyne is a patriot who served our country for 2 years\,11 months with honor and now it’s our turn to stand and honor him as he is goes to his final resting place.\n\n\nPRIMARY STAGING DETAILS: 06-17-19 \nStaging Time: 12:30 pm  \nParking lot opposite the Pennsylvania Monument at\nIndiantown Gap National Cemetery\nAnnville\, Pennsylvania 17003\nMAP\n\n\nRide Captain: \nGerry Pawlowski\,\n570-640-8672\npgrpa.asc.east@gmail.com\n\n\nSpecial Instructions: \nStage at the upper parking lot opposite the rear of the PA Memorial\, (turn left at the US Flag Circle).\nDO NOT PROCEED TO COMMITTAL SITE WITHOUT PERMISSION.\n\n\nFlags & Water:\nFlags will not be provided\nLarge Bike Flags will NOT be needed.\nWater WILL NOT be provided\, please bring your own.\n\n\n  \n\n\nSubmitted By: Joyce Pawlowski \nPosition: Pennsylvania HOTH Coordinator \n\nNote: You do not have to own/ride a motorcycle or be a veteran to join\, and membership is Free. The only requirement is RESPECT! To subscribe to receive mission notices\, log into the National Site and click on the Members tab at the top. Select the Subscribe to PGR Missions option.\n Print This Page
URL:https://www.patriotguard.org/mission/everett-deakyne/
CATEGORIES:Honor Mission
END:VEVENT
END:VCALENDAR