BEGIN:VCALENDAR
VERSION:2.0
PRODID:-//Patriot Guard Riders - ECPv5.6.0//NONSGML v1.0//EN
CALSCALE:GREGORIAN
METHOD:PUBLISH
X-WR-CALNAME:Patriot Guard Riders
X-ORIGINAL-URL:https://www.patriotguard.org
X-WR-CALDESC:Events for Patriot Guard Riders
BEGIN:VTIMEZONE
TZID:America/New_York
BEGIN:DAYLIGHT
TZOFFSETFROM:-0500
TZOFFSETTO:-0400
TZNAME:EDT
DTSTART:20160313T070000
END:DAYLIGHT
BEGIN:STANDARD
TZOFFSETFROM:-0400
TZOFFSETTO:-0500
TZNAME:EST
DTSTART:20161106T060000
END:STANDARD
END:VTIMEZONE
BEGIN:VEVENT
DTSTART;TZID=America/New_York:20160708T090000
DTEND;TZID=America/New_York:20160708T110000
DTSTAMP:20210512T145155
CREATED:20160708T130000Z
LAST-MODIFIED:20191201T144527Z
UID:410776-1467968400-1467975600@www.patriotguard.org
SUMMARY:Evan Cindrich\, USN Veteran / McMurray
DESCRIPTION:Lieutenant Evan Cindrich\nUS Navy Veteran / 8 July 2016 Bridgeville\, PA\n\n\nThe Patriot Guard Riders have been invited by the family of Lt. Cindrich to Escort and Stand in Silent Honor of their American Hero. \nLt. Cindrich was a proud US Navy Veteran\, who served 6 years in Pensacola\, FL and Kingsville\, TX and received medals\, National Defense Service Medal and Navy Unit Commendation Medal. \n\nFriday\, 8 July 2016\n\nStaging: 11:15\nCremation & Funeral Care by Danielle Andy Belusko\n3287 Washington Rd\, McMurray\, PA 15317\n\nhttps://goo.gl/maps/PwdKhJV8N9N2\n\nBriefing: 11:30\n\nFlag Line: 11:45\n\nVisitation 1200\n\nService Starts at 1300\n\nEscorting and Interment Immediately Following Service:\nNational Cemetery of the Alleghenies\n1158 Morgan Rd\, Bridgeville\, PA 15017\n\nhttps://goo.gl/maps/ZoFJdFLJhEJ2 \nRemember that the National Cemetery is a Federal Reservation and NO WEAPONS are permitted.\n\nDress Accordingly.  Please Bring Your 3 X 5 Flag.  HYDRATE\n\nRide Captain: Aaron Zeff\ndelta@cobweb.net\n412-491-3383
URL:https://www.patriotguard.org/mission/evan-cindrich-usn-veteran-mcmurray/
CATEGORIES:Archive
END:VEVENT
END:VCALENDAR