BEGIN:VCALENDAR
VERSION:2.0
PRODID:-//Patriot Guard Riders - ECPv5.6.0//NONSGML v1.0//EN
CALSCALE:GREGORIAN
METHOD:PUBLISH
X-WR-CALNAME:Patriot Guard Riders
X-ORIGINAL-URL:https://www.patriotguard.org
X-WR-CALDESC:Events for Patriot Guard Riders
BEGIN:VTIMEZONE
TZID:America/New_York
BEGIN:DAYLIGHT
TZOFFSETFROM:-0500
TZOFFSETTO:-0400
TZNAME:EDT
DTSTART:20160313T070000
END:DAYLIGHT
BEGIN:STANDARD
TZOFFSETFROM:-0400
TZOFFSETTO:-0500
TZNAME:EST
DTSTART:20161106T060000
END:STANDARD
END:VTIMEZONE
BEGIN:VEVENT
DTSTART;TZID=America/New_York:20160701T090000
DTEND;TZID=America/New_York:20160701T110000
DTSTAMP:20210512T234425
CREATED:20160701T130000Z
LAST-MODIFIED:20191201T145003Z
UID:411195-1467363600-1467370800@www.patriotguard.org
SUMMARY:Eugene Mummert\, USA\, Vietnam
DESCRIPTION:Eugene Mummert\nUS Army Vietnam Veteran\nPGR Member\nPhoenix\, AZ\n01 July 2016\n\n\n\nThe Family of Gene “GOBB” Mummert has honored the Patriot Guard Riders and many other groups by inviting us to be a part of a ceremony honoring his service and for Military Honors. \nGene served with the 199th Infantry Battalion\, nicknamed the “Redcatchers”in Vietnam during the Tet Offensive and the 397th Military Police Battalion back in the States.He served 1967-1970 leaving as a Sergeant. \nGene was one of the original members of the AZ Patriot Guard and also one of the original Road Guards. He was active in the ALR Post 53 Buckeye\, AZ\, The Indian Riders Motorcycle Group\, and was at every Charity ride or event held in the Greater Phoenix area for years. He was a friend and mentor to countless people for years.  Gene was also a DOC Captain retired from the DOC Perryville and Lewis units. He was known by many names\, Gene\, GOBB\, ADCOP\, DADDY\,CAPTAIN\,BROTHER\, to name a few. He was loved and admired and respected by all who met him. He is survived by his loving Daughter with countless “brothers and sisters”. We will honor him on July 1st\, 2016 at 1030 hours at The Phoenix National Memorial Center\, 23029 N Cave Creek Rd.Phoenix\, AZ 85024 (entrance on Pinnacle Peak Rd. east of Cave Creek Rd.) \nDate: 1 July 2016 \nStaging: 0930 hours\, Visitors Center\, National Memorial Cemetery\, 23029 N. Cave Creek Road\, Phoenix\, AZ 85024 \nBriefing: 0945 hours \nFlag Line:  1010 hours\, Flags in place at Main Stage located directly across from visitors center \nMilitary Honors: 1030 hours\, 1 July 2016\, at the Arizona National Memorial Cemetery\, 23029 N. Cave Creek Road\, Phoenix\, AZ 85024 \nRide Captain:\nGreg OB O’Brien\nState Captain\ngreo66@msn.com\n480-286-5777 \nDue to Arizona Weather\, please hydrate the day before and the day of the mission.
URL:https://www.patriotguard.org/mission/eugene-mummert-usa-vietnam/
END:VEVENT
END:VCALENDAR