BEGIN:VCALENDAR
VERSION:2.0
PRODID:-//Patriot Guard Riders - ECPv5.3.2.1//NONSGML v1.0//EN
CALSCALE:GREGORIAN
METHOD:PUBLISH
X-WR-CALNAME:Patriot Guard Riders
X-ORIGINAL-URL:https://www.patriotguard.org
X-WR-CALDESC:Events for Patriot Guard Riders
BEGIN:VTIMEZONE
TZID:America/New_York
BEGIN:DAYLIGHT
TZOFFSETFROM:-0500
TZOFFSETTO:-0400
TZNAME:EDT
DTSTART:20210314T070000
END:DAYLIGHT
BEGIN:STANDARD
TZOFFSETFROM:-0400
TZOFFSETTO:-0500
TZNAME:EST
DTSTART:20211107T060000
END:STANDARD
END:VTIMEZONE
BEGIN:VEVENT
DTSTART;VALUE=DATE:20210401
DTEND;VALUE=DATE:20210402
DTSTAMP:20210402T234804
CREATED:20210330T222236Z
LAST-MODIFIED:20210330T222236Z
UID:573396-1617235200-1617321599@www.patriotguard.org
SUMMARY:Eugene Grice
DESCRIPTION:Multi City & State \n\nHonor Mission\nEugene Grice\, Veteran\nUnited States Army\nTallahassee\, Florida  04-01-21\n\n\n\nABOUT THE MISSION: \nThe Patriot Guard Riders have been invited to stand in silent respect for this hero\, Eugene Grice.  Eugene Grice served honorably in the United States Army. Eugene Grice was born in Bainbridge\, Georgia on March 20\, 1956\, and passed from this earth on March 25\, 2021 at age 66.  His visitation will be held at Bruton Mortuary in Bainbridge\, Georgia from 2:00 to 4:00 PM. We will stand a flag line during his visitation.\n\n\nPRIMARY STAGING DETAILS: 04-01-21 \n1:00 PM – Staging: \nMcDonalds 3819\nNorth Monroe Street\nTallahassee\, Florida 32303\n\n\n1:15 PM – Briefing \n1:20 PM – KSU\n\nRide Captain: \nDon Reeder\n850-933-0886\nfloridasailor@comcast.net\n\n\nSpecial Instructions: \nFamily lives nearby Tallahassee with the first staging their on Thursday\, a second staging will be in Bainbridge\, Georgia where the visitation is also on Thursday.  The funeral is on Friday but Tallahassee area PGR has a funeral at the Tallahassee National Cemetery at the same time on Friday. Georgia PGR has been contacted to possibly coordinate the Friday funeral which will be at Mt. Araret Church Cemetery\, Hwy 27 So\, Attapulgus\, GA\, separate mission posting to come later.\n\nCovid19 precautions will be observed per PGR National\, including the mandatory donning of face masks throughout the mission\, social distancing of 6 feet & 20 feet from the family and the use of hand sanitizer.\n\n\nFlags & Water:\n\nFlags will be provided\nLarge Bike Flags will NOT be needed.\nWater WILL NOT be provided\, please bring your own.\n\nSTAGING #2 DETAILS: 04-01-21 \n1:45 PM – Staging \nBruton Mortuary\n635 Bruton Street\nBainbridge\, Georgia 32819\n\n\n1:55 PM – Briefing\n2:00 PM – Flag Line\n\nRide Captain: \nDon Reeder\n850-933-0886\nfloridasailor@comcast.net\n\n\nSpecial Instructions: \nCovid19 precautions will be observed per PGR National\, including the mandatory donning of face masks throughout the mission\, social distancing of 6 feet & 20 feet from the family and the use of hand sanitizer.\n\n\nFlags & Water:\nFlags will be provided\nLarge Bike Flags will NOT be needed.\nWater WILL NOT be provided\, please bring your own.\n\n\n\nSubmitted By: Don Reeder \nPosition: Florida Assistant State Captain \n\nNote: You do not have to own/ride a motorcycle or be a veteran to join\, and membership is Free. The only requirement is RESPECT! To subscribe to receive mission notices\, log into the National Site and click on the Members tab at the top. Select the Subscribe to PGR Missions option.\n Print This Page
URL:https://www.patriotguard.org/mission/eugene-grice/
CATEGORIES:Honor Mission
END:VEVENT
END:VCALENDAR