BEGIN:VCALENDAR
VERSION:2.0
PRODID:-//Patriot Guard Riders - ECPv5.6.0//NONSGML v1.0//EN
CALSCALE:GREGORIAN
METHOD:PUBLISH
X-WR-CALNAME:Patriot Guard Riders
X-ORIGINAL-URL:https://www.patriotguard.org
X-WR-CALDESC:Events for Patriot Guard Riders
BEGIN:VTIMEZONE
TZID:America/New_York
BEGIN:DAYLIGHT
TZOFFSETFROM:-0500
TZOFFSETTO:-0400
TZNAME:EDT
DTSTART:20160313T070000
END:DAYLIGHT
BEGIN:STANDARD
TZOFFSETFROM:-0400
TZOFFSETTO:-0500
TZNAME:EST
DTSTART:20161106T060000
END:STANDARD
END:VTIMEZONE
BEGIN:VEVENT
DTSTART;TZID=America/New_York:20160721T090000
DTEND;TZID=America/New_York:20160721T110000
DTSTAMP:20210512T155615
CREATED:20160721T130000Z
LAST-MODIFIED:20191201T144212Z
UID:410477-1469091600-1469098800@www.patriotguard.org
SUMMARY:Eugene Earl White\, USA
DESCRIPTION:The family of Eugene Earl White\, has requested the Patriot Guard Riders to stand in honor of their loved One. \nEugene served in the United States Army during World War II. \nFuneral services will be held at 11am (1100hrs)  on Thursday\, July 21\, 2016 at\nDebo Funeral Home\n833 Court St.\nFulton\, MO \nBurial will follow at Hillcrest Cemetery in Fulton. \nVisitation will be from 10am until time of services at the funeral home. \nStage for mission at 10am (1000hrs) at Debo Funeral Home \nRide Captain:\nMark Birmingham\n(573) 230-5611
URL:https://www.patriotguard.org/mission/eugene-earl-white-usa/
CATEGORIES:Archive
END:VEVENT
END:VCALENDAR