BEGIN:VCALENDAR
VERSION:2.0
PRODID:-//Patriot Guard Riders - ECPv5.3.2.1//NONSGML v1.0//EN
CALSCALE:GREGORIAN
METHOD:PUBLISH
X-WR-CALNAME:Patriot Guard Riders
X-ORIGINAL-URL:https://www.patriotguard.org
X-WR-CALDESC:Events for Patriot Guard Riders
BEGIN:VTIMEZONE
TZID:America/New_York
BEGIN:DAYLIGHT
TZOFFSETFROM:-0500
TZOFFSETTO:-0400
TZNAME:EDT
DTSTART:20190310T070000
END:DAYLIGHT
BEGIN:STANDARD
TZOFFSETFROM:-0400
TZOFFSETTO:-0500
TZNAME:EST
DTSTART:20191103T060000
END:STANDARD
END:VTIMEZONE
BEGIN:VEVENT
DTSTART;VALUE=DATE:20190810
DTEND;VALUE=DATE:20190811
DTSTAMP:20210402T112214
CREATED:20190809T202953Z
LAST-MODIFIED:20190809T202953Z
UID:170338-1565395200-1565481599@www.patriotguard.org
SUMMARY:Eugene E. Laird
DESCRIPTION:Honor Mission\nEugene E. Laird\, Retired\nUSA – Vietnam\nWarrenton\, Missouri – 08-10-19\n\n\n\n\nABOUT THE MISSION: \nThe family of Mr.Eugene Laird has honored the Patriot Guard by requesting our presence at the celebration of life and to provide the escort of their loved one to his final resting place. Mr.Laird served our great nation 20 years in the U.S. Army earning the rank of Sgt First Class along with numerous other awards and decorations.\n\n\nPRIMARY STAGING DETAILS: 08-10-19 \nStaging Time: 11:00 am \nMartin Funeral Home\n510 E. Booneslick Rd.\nWarrenton\, Missouri 63383\n\n\nRide Captain: \nRobert ‘Rainmaker’ Smith\nbobsmithesq4@gmail.com\n\n\nSpecial Instructions: \nVisitation will be in progress so please arrive quietly.  We will escort Mr.Laird to Warrenton Cemetery following services for full military honors.  Around 1 mile.  Cages are always welcome!\n\nFlags & Water:\nFlags will be provided\nIf you have large bike flags\, please bring them.\nWater will be provided.\n\n\n\nSubmitted By: Robert Smith \nPosition: Missouri Ride Captain \n\nNote: You do not have to own/ride a motorcycle or be a veteran to join\, and membership is Free. The only requirement is RESPECT! To subscribe to receive mission notices\, log into the National Site and click on the Members tab at the top. Select the Subscribe to PGR Missions option.\n Print This Page
URL:https://www.patriotguard.org/mission/eugene-e-laird/
CATEGORIES:Honor Mission
END:VEVENT
END:VCALENDAR