BEGIN:VCALENDAR
VERSION:2.0
PRODID:-//Patriot Guard Riders - ECPv5.3.2.1//NONSGML v1.0//EN
CALSCALE:GREGORIAN
METHOD:PUBLISH
X-WR-CALNAME:Patriot Guard Riders
X-ORIGINAL-URL:https://www.patriotguard.org
X-WR-CALDESC:Events for Patriot Guard Riders
BEGIN:VTIMEZONE
TZID:America/New_York
BEGIN:DAYLIGHT
TZOFFSETFROM:-0500
TZOFFSETTO:-0400
TZNAME:EDT
DTSTART:20170312T070000
END:DAYLIGHT
BEGIN:STANDARD
TZOFFSETFROM:-0400
TZOFFSETTO:-0500
TZNAME:EST
DTSTART:20171105T060000
END:STANDARD
END:VTIMEZONE
BEGIN:VEVENT
DTSTART;TZID=America/New_York:20170327T150000
DTEND;TZID=America/New_York:20170327T170000
DTSTAMP:20210403T081736
CREATED:20170327T190000Z
LAST-MODIFIED:20191201T033532Z
UID:336387-1490626800-1490634000@www.patriotguard.org
SUMMARY:Eugene E. Fix \, Veteran\, USMC - Vietnam
DESCRIPTION:Eugene E. “Gino” Fix\, Veteran \nUSMC – Vietnam \nLancaster\, New York – 27 Mar 2017\n\n[HR][/HR]\nABOUT THE MISSION: \nWe have been requested to stand in Honor of US Marine Corps Veteran Eugene E. “Gino” Fix of Lancaster\, who passed away unexpectedly on March 16th at the young age of 69. Mr. Fix served from 1968-1970\, with an MOS of 3041 – Supply Administrative Man. He was stationed with the 3rd Marine Air Wing\, Marine Corps Air Station\, El Toro\, CA. Mr. Fix was Honorably Discharged from Active Duty on 27 August 1970 with the rank of Corporal (E-4). For his Service to our Nation\, Cpl. Fix was awarded the National Defense Service Medal.\nObituary: https://tinyurl.com/mjoy9v5 \nPRIMARY STAGING DETAILS: 27 Mar 2017 \n \nPrimary Staging Time: 3:00 P.M.\n\nWendel & Loecher Funeral Home\, 27 Aurora Street\n\nLancaster\, New York – 14086\n\nhttp://mapq.st/2k2rNPJ\n\n \n \nRide Captain:\n\nDon Becker\, dbecker97545@roadrunner.com\n\n \n \nSpecial Instructions:\n\nFlag Line for Memorial Gathering 4:00 – 7:00 PM.\nPlease do whatever you’re able to help Honor the US Marine Corps Service of “Gino” Fix\, and to support his loving and grieving family.\nPlease arrive prepared with a clean 3×5 American Flag or a USMC flag\, and dress for the weather.\nNo escort involved. \nDon Higgins\nSenior Ride Captain\nPGRNY Region-1\ngladiator6988@hotmail.com\n\n \n \nFlags & Water:\n\nFlags Will NOT Be Provided\, Please Bring Your Own.\n\nLarge Bike Flags will NOT be needed.\n\nWater WILL NOT be provided\, please bring your own.\n\nSubmitted By: Ray Sestak\nPosition: Ride Captain \n[HR][/HR]\nNote:\nYou do not have to own/ride a motorcycle or be a Veteran to join and membership is Free. The only requirement is RESPECT! To join\, simply go to Patriot Guard website and click on Register. Membership is Free. \nTo subscribe to receive mission notices\, log into the National Site and click on the Mission Tab at the top. Select Upcoming Missions by State. Scroll to the state(s) you would like to receive notices for and click on the green check mark. Detailed instructions are also located in the FAQs on the site by clicking on the Quick Links Tab and selecting FAQs.
URL:https://www.patriotguard.org/mission/eugene-e-fix-veteran-usmc-vietnam/
END:VEVENT
END:VCALENDAR