BEGIN:VCALENDAR
VERSION:2.0
PRODID:-//Patriot Guard Riders - ECPv5.3.2.1//NONSGML v1.0//EN
CALSCALE:GREGORIAN
METHOD:PUBLISH
X-WR-CALNAME:Patriot Guard Riders
X-ORIGINAL-URL:https://www.patriotguard.org
X-WR-CALDESC:Events for Patriot Guard Riders
BEGIN:VTIMEZONE
TZID:America/New_York
BEGIN:DAYLIGHT
TZOFFSETFROM:-0500
TZOFFSETTO:-0400
TZNAME:EDT
DTSTART:20190310T070000
END:DAYLIGHT
BEGIN:STANDARD
TZOFFSETFROM:-0400
TZOFFSETTO:-0500
TZNAME:EST
DTSTART:20191103T060000
END:STANDARD
END:VTIMEZONE
BEGIN:VEVENT
DTSTART;TZID=America/New_York:20190923T000000
DTEND;TZID=America/New_York:20190923T000000
DTSTAMP:20210401T110042
CREATED:20190922T191305Z
LAST-MODIFIED:20190922T191305Z
UID:175958-1569196800-1569196800@www.patriotguard.org
SUMMARY:Estill "Monk" Cates
DESCRIPTION:Honor Mission\nEstill “Monk” Cates \, Retired\nUSN – \, Korea\, Vietnam\nChattanooga\, Tennessee – 09-23-19\n\n\n \n\nABOUT THE MISSION: \nThe family of E-5\, Estill “Monk” Cates Jr.\, 86\, US Navy (1956-976)\, Korean and Vietnam Wars\, of Bridgeport\, AL has invited the Patriot Guard Riders to Honor their loved one with a Silent flagline at his final place of rest. It WILL be Our Honor to do so.Mr. Cates\, February 10\,1933 till September 17\, 2019\, served his country with dignity and honor for 20 years and loved to be at sea. He earned the Vietnam Service Medal\, Navy Unit Commendation\, 2 awards\, National Defense Medal\, United Nations Award\, Korean Service Award and the China Service Award. He served abroad the U.S.S. Cerasage\, The U.S.S. Brister\, the U.S.S. Thomas J. Gary\, the U.S.S. Enterprise\, and the U.S.S. Duluth. He was an E-5 Culinary Specialist 2 when he retired.Mr. Cates stood for us and now it is Our time to stand for him.\n\n\nPRIMARY STAGING DETAILS: 09-23-19 \nStaging Time: 10:45 am  \nChattanooga National Cemetery\n1200 Bailey Ave.\nChattanooga\, Tennessee 37404\n\n\nRide Captain: \nDustin Shankles\n423-710-4224\n\n\nSpecial Instructions: \nGraveside/ Flagline Only\nShelter Assignment will be posted ASAP\n\nFlags & Water:\nFlags will be provided\nLarge Bike Flags will NOT be needed.\nWater WILL NOT be provided\, please bring your own.\n\n\n\nSubmitted By: Thonda Farmer \nPosition: Tennessee Assistant State Captain \n\nNote: You do not have to own/ride a motorcycle or be a veteran to join\, and membership is Free. The only requirement is RESPECT! To subscribe to receive mission notices\, log into the National Site and click on the Members tab at the top. Select the Subscribe to PGR Missions option.\n Print This Page
URL:https://www.patriotguard.org/mission/estill-monk-cates/
CATEGORIES:Honor Mission
END:VEVENT
END:VCALENDAR