BEGIN:VCALENDAR
VERSION:2.0
PRODID:-//Patriot Guard Riders - ECPv5.6.0//NONSGML v1.0//EN
CALSCALE:GREGORIAN
METHOD:PUBLISH
X-WR-CALNAME:Patriot Guard Riders
X-ORIGINAL-URL:https://www.patriotguard.org
X-WR-CALDESC:Events for Patriot Guard Riders
BEGIN:VTIMEZONE
TZID:America/New_York
BEGIN:DAYLIGHT
TZOFFSETFROM:-0500
TZOFFSETTO:-0400
TZNAME:EDT
DTSTART:20160313T070000
END:DAYLIGHT
BEGIN:STANDARD
TZOFFSETFROM:-0400
TZOFFSETTO:-0500
TZNAME:EST
DTSTART:20161106T060000
END:STANDARD
END:VTIMEZONE
BEGIN:VEVENT
DTSTART;TZID=America/New_York:20160611T090000
DTEND;TZID=America/New_York:20160611T110000
DTSTAMP:20210513T171317
CREATED:20160611T130000Z
LAST-MODIFIED:20191201T145313Z
UID:411479-1465635600-1465642800@www.patriotguard.org
SUMMARY:Esther Esson\, 73
DESCRIPTION:Esther Esson\, 73\nWomens Army Corp\nThe Dalles\, Oregon\n11/JUN/16\n\n\n\nLadies and Gentlemen of the Patriot Guard Riders\, we have been requested to stand for U.S. Army Veteran Esther Esson\, age 73. \nAs a WAC (Womens Army Corp)\, she served honorably from June 1961 to May 1963.  She was stationed at Fort Huachuca\, Arizona.  Ms Esson was a Disbursing Specialist and Payroll Clerk.  You might say the buck stopped at her desk.  Throughout her life she was an advocate for Veterans and their treatment following the service.  Please join us as we pay our respects and honor her service to our Nation. \nMission Date: Saturday 11/June/16 \nRide Captain:\nRod Runyon\nreckless.1@hotmail.com \nStaging & Service Location: \nOdd Fellows Cemetery\nCherry Hts. Rd.\nThe Dalles.  Just south of St. Mary’s School\n\nStaging Time:  9:15am\nBriefing:  9:30am\nFlag Line Set: 9:45am\nService Begins: 10:30am \nBring your 3×5 Flags.  There will only be several available.  Hydrate – Carry water at all Missions.  Be careful of the Cattle Guard as you enter the Cemetery.
URL:https://www.patriotguard.org/mission/esther-esson-73/
CATEGORIES:Archive
END:VEVENT
END:VCALENDAR