BEGIN:VCALENDAR
VERSION:2.0
PRODID:-//Patriot Guard Riders - ECPv5.3.2.1//NONSGML v1.0//EN
CALSCALE:GREGORIAN
METHOD:PUBLISH
X-WR-CALNAME:Patriot Guard Riders
X-ORIGINAL-URL:https://www.patriotguard.org
X-WR-CALDESC:Events for Patriot Guard Riders
BEGIN:VTIMEZONE
TZID:America/New_York
BEGIN:DAYLIGHT
TZOFFSETFROM:-0500
TZOFFSETTO:-0400
TZNAME:EDT
DTSTART:20190310T070000
END:DAYLIGHT
BEGIN:STANDARD
TZOFFSETFROM:-0400
TZOFFSETTO:-0500
TZNAME:EST
DTSTART:20191103T060000
END:STANDARD
END:VTIMEZONE
BEGIN:VEVENT
DTSTART;VALUE=DATE:20190729
DTEND;VALUE=DATE:20190730
DTSTAMP:20210402T192814
CREATED:20190728T015251Z
LAST-MODIFIED:20190728T015251Z
UID:168942-1564358400-1564444799@www.patriotguard.org
SUMMARY:Ervin Walton
DESCRIPTION:Honor Mission\nErvin Walton\, Veteran\nUSA – Vietnam\nAda\, Oklahoma – 07-29-19\n\n\n\nABOUT THE MISSION: \nThe family of US Army\, Vietnam Veteran\, PFC Ervin Walton has asked the PGR to stand a Flag Line at his funeral service\, with an accompaniment to the High Hill Cemetery. Honors provided by the Chickasaw Honor Guard.\n\n\nPRIMARY STAGING DETAILS: 07-29-19 \nStaging Time: 09:00 AM\n \nChickasaw Nation Community Center\n700 North Mississippi Ave.\nAda\, Oklahoma 74820\n\n\nRide Captain: \nDan “Papa Slick” James\npapaslick@jamesco.us\n918-470-8379\nMay God Bless! Psalms 91:11\n\n\nSpecial Instructions: \nMANDATORY BRIEFING: 9:15am. You must attend briefing to ride Escort.\nFLAG LINE: 9:30am\nWEATHER: Forecast high of 91 mostly sunny with a 30% chance of rain.\n\n\nFlags & Water:\nFlags will be provided\nIf you have large bike flags\, please bring them.\nWater will be provided.\n\n\n\nSubmitted By: Ronnie Smith \nPosition: Oklahoma Ride Captain \n\nNote: You do not have to own/ride a motorcycle or be a veteran to join\, and membership is Free. The only requirement is RESPECT! To subscribe to receive mission notices\, log into the National Site and click on the Members tab at the top. Select the Subscribe to PGR Missions option.\n Print This Page
URL:https://www.patriotguard.org/mission/ervin-walton/
CATEGORIES:Honor Mission
END:VEVENT
END:VCALENDAR