BEGIN:VCALENDAR
VERSION:2.0
PRODID:-//Patriot Guard Riders - ECPv5.3.2.1//NONSGML v1.0//EN
CALSCALE:GREGORIAN
METHOD:PUBLISH
X-WR-CALNAME:Patriot Guard Riders
X-ORIGINAL-URL:https://www.patriotguard.org
X-WR-CALDESC:Events for Patriot Guard Riders
BEGIN:VTIMEZONE
TZID:America/New_York
BEGIN:DAYLIGHT
TZOFFSETFROM:-0500
TZOFFSETTO:-0400
TZNAME:EDT
DTSTART:20190310T070000
END:DAYLIGHT
BEGIN:STANDARD
TZOFFSETFROM:-0400
TZOFFSETTO:-0500
TZNAME:EST
DTSTART:20191103T060000
END:STANDARD
END:VTIMEZONE
BEGIN:VEVENT
DTSTART;VALUE=DATE:20190701
DTEND;VALUE=DATE:20190702
DTSTAMP:20210403T191957
CREATED:20190627T213937Z
LAST-MODIFIED:20190627T213937Z
UID:166111-1561939200-1562025599@www.patriotguard.org
SUMMARY:Ernie Orman
DESCRIPTION:Honor Mission\nErnie Orman\, Retired\nUSAF –\nBiloxi\, Mississippi – 07-01-19\n\n\n\nABOUT THE MISSION: \nWe are sad to report the death of US Air Force Retired Ernie Orman (82). Mr. Orman was awarded the Air Force Good Conduct Medal w/4olc and Air Force Longevity Service Award w/3olc. His family has requested the Patriot Guard Riders help honor him for his service to our country. The Patriot Guard will provide a flag line during visitation from 9-11 am.\n\n\nPRIMARY STAGING DETAILS: 07-01-19 \nStaging Time: 08:45 AM\n \nBradford O’keefe Funeral Home\n675 Howard Ave\nBiloxi\, Mississippi\n\n\nRide Captain: \nSteve Carrington\n228-324-8601\n\n\nSpecial Instructions: \nService: 11:00 am\nEscort: Following the service to Biloxi National Cemetery.\nCommittal service: 12:30 pm\n\n\nFlags & Water:\nFlags will be provided\nIf you have large bike flags\, please bring them.\nWater WILL NOT be provided\, please bring your own.\n\n\n\nSubmitted By: Sandie Schlett \nPosition: Mississippi Assistant State Captain \n\nNote: You do not have to own/ride a motorcycle or be a veteran to join\, and membership is Free. The only requirement is RESPECT! To subscribe to receive mission notices\, log into the National Site and click on the Members tab at the top. Select the Subscribe to PGR Missions option.\n Print This Page
URL:https://www.patriotguard.org/mission/ernie-orman/
CATEGORIES:Honor Mission
END:VEVENT
END:VCALENDAR