BEGIN:VCALENDAR
VERSION:2.0
PRODID:-//Patriot Guard Riders - ECPv5.3.2.1//NONSGML v1.0//EN
CALSCALE:GREGORIAN
METHOD:PUBLISH
X-WR-CALNAME:Patriot Guard Riders
X-ORIGINAL-URL:https://www.patriotguard.org
X-WR-CALDESC:Events for Patriot Guard Riders
BEGIN:VTIMEZONE
TZID:America/New_York
BEGIN:DAYLIGHT
TZOFFSETFROM:-0500
TZOFFSETTO:-0400
TZNAME:EDT
DTSTART:20210314T070000
END:DAYLIGHT
BEGIN:STANDARD
TZOFFSETFROM:-0400
TZOFFSETTO:-0500
TZNAME:EST
DTSTART:20211107T060000
END:STANDARD
END:VTIMEZONE
BEGIN:VEVENT
DTSTART;VALUE=DATE:20210331
DTEND;VALUE=DATE:20210401
DTSTAMP:20210403T001045
CREATED:20210330T214154Z
LAST-MODIFIED:20210330T214154Z
UID:573373-1617148800-1617235199@www.patriotguard.org
SUMMARY:Ernest Warren Collins
DESCRIPTION:Honor Mission\nErnest Warren Collins\, Veteran\nUSA –\nSulphur\, Oklahoma – 03-31-21\n\n\n\nABOUT THE MISSION: \nThe family of Cpl Ernest Warren Collins\, USA Veteran\, has asked the Patriot Guard Riders to stand a Flag line at his service to be held on Wed. 31 March 2021 at Sulphur\, Ok.\n\n\nPRIMARY STAGING DETAILS: 03-31-21 \nStaging Time: 09:00 AM\n \nFirst Christian Church\n403 W Muskogee Ave.\nSulphur\, Oklahoma 73086\n\n\nRide Captain: \nDavid “sleepy” Engelhardt\ndwe1956@yahoo.com\n580-319-1312\n\n\nSpecial Instructions: \nBurial with Military Honors will be held at Oaklawn Cemetery\, Sulphur\, Ok.\nMANDATORY BRIEFING: 9:20 am. Must attend briefing to accompany hero to cemetery.\nFLAG LINE: 9:30 am\nWEATHER: Sunny with temps in the mid 60’s. Dress accordingly\n\n\nFlags & Water:\nFlags will be provided\nIf you have large bike flags\, please bring them.\nWater WILL NOT be provided\, please bring your own.\n\n\nSubmitted By: Ronnie Smith \nPosition: Oklahoma Ride Captain \n\nNote: You do not have to own/ride a motorcycle or be a veteran to join\, and membership is Free. The only requirement is RESPECT! To subscribe to receive mission notices\, log into the National Site and click on the Members tab at the top. Select the Subscribe to PGR Missions option.\n Print This Page
URL:https://www.patriotguard.org/mission/ernest-warren-collins/
CATEGORIES:Honor Mission
END:VEVENT
END:VCALENDAR