BEGIN:VCALENDAR
VERSION:2.0
PRODID:-//Patriot Guard Riders - ECPv5.3.2.1//NONSGML v1.0//EN
CALSCALE:GREGORIAN
METHOD:PUBLISH
X-WR-CALNAME:Patriot Guard Riders
X-ORIGINAL-URL:https://www.patriotguard.org
X-WR-CALDESC:Events for Patriot Guard Riders
BEGIN:VTIMEZONE
TZID:America/New_York
BEGIN:DAYLIGHT
TZOFFSETFROM:-0500
TZOFFSETTO:-0400
TZNAME:EDT
DTSTART:20190310T070000
END:DAYLIGHT
BEGIN:STANDARD
TZOFFSETFROM:-0400
TZOFFSETTO:-0500
TZNAME:EST
DTSTART:20191103T060000
END:STANDARD
END:VTIMEZONE
BEGIN:VEVENT
DTSTART;VALUE=DATE:20190831
DTEND;VALUE=DATE:20190901
DTSTAMP:20210402T110516
CREATED:20190830T125958Z
LAST-MODIFIED:20190830T125958Z
UID:172336-1567209600-1567295999@www.patriotguard.org
SUMMARY:Ernest Theodore Fields\, Jr.
DESCRIPTION:Honor Mission\nErnest Theodore Fields\, Jr.\, Retired\, Veteran\nUSMC –\nBay Minette\, Alabama – 08-31-19\n\n\n\nABOUT THE MISSION: \nFellow Riders\, America has lost another True American HERO\, GYSGT Ernest Theodore Fields\, Jr. who served in the U. S. Marine Corps for 22 years and passed away at the age of 58. His awards and commendations include Meritorious Unit Commendation (3rd Award)\, Navy Unit Commendation\, Certificate of Commendation (3rd Award)\, Letter of Appreciation (5th Award)\, Meritorious Mast (2nd Award)\, Navy and Marine Commendation Medal\, Good Conduct Medal\, Navy and Marine Corps Achievement Medal\, Marine Corps Good Conduct Medal (7th Award)\, NDSM\, Sea Service Deployment Ribbon (2nd Award)\, and an Honorable Discharge. Other awards and commendations are unknown at this time. It shall be our Honor to Escort him to his final resting place and stand a silent flag line at Robinson Cemetery\, Stockton\, AL. Full Military Honors for this Hero. Mr. Fields stood many a hard day and night so that we might be safe and free. Now it is our turn to stand and honor him for his service and sacrifice. Ride safely!\n\n\nPRIMARY STAGING DETAILS: 08-31-19 \nStaging Time: 12:30 PM\n \nIntersection I-65N and Hwy 59\nBay Minette\, Alabama\n\n\nRide Captain: \nGerald Hagan\ng-bhagan@att.net\n(251) 214-7147\n\n\nSpecial Instructions: \nBriefing: 12:45 p.m.\nKSU: 1:00 p.m\nFlags: Gerald Hagan\nFuneral Service: 12:00 p.m. – Zion Fountain AME Zion Church\, Hwy 21\, Stockton\, AL 36579.\nPGR Arrival: 1:15 p.m. to render final salute as he’s placed in hearse.\nInterment: Robinson Cemetery\, Canaan Rd. W.\, Stockton\, AL.\n\n\nFlags & Water:\nFlags will be provided\nIf you have large bike flags\, please bring them.\nWater WILL NOT be provided\, please bring your own.\n\n\n\nSubmitted By: Lloyd Pursley \nPosition: Alabama Ride Captain \n\nNote: You do not have to own/ride a motorcycle or be a veteran to join\, and membership is Free. The only requirement is RESPECT! To subscribe to receive mission notices\, log into the National Site and click on the Members tab at the top. Select the Subscribe to PGR Missions option.\n Print This Page
URL:https://www.patriotguard.org/mission/ernest-theodore-fields-jr/
CATEGORIES:Honor Mission
END:VEVENT
END:VCALENDAR