BEGIN:VCALENDAR
VERSION:2.0
PRODID:-//Patriot Guard Riders - ECPv5.3.2.1//NONSGML v1.0//EN
CALSCALE:GREGORIAN
METHOD:PUBLISH
X-WR-CALNAME:Patriot Guard Riders
X-ORIGINAL-URL:https://www.patriotguard.org
X-WR-CALDESC:Events for Patriot Guard Riders
BEGIN:VTIMEZONE
TZID:America/New_York
BEGIN:DAYLIGHT
TZOFFSETFROM:-0500
TZOFFSETTO:-0400
TZNAME:EDT
DTSTART:20190310T070000
END:DAYLIGHT
BEGIN:STANDARD
TZOFFSETFROM:-0400
TZOFFSETTO:-0500
TZNAME:EST
DTSTART:20191103T060000
END:STANDARD
END:VTIMEZONE
BEGIN:VEVENT
DTSTART;VALUE=DATE:20190607
DTEND;VALUE=DATE:20190608
DTSTAMP:20210405T052156
CREATED:20190606T193608Z
LAST-MODIFIED:20190606T193852Z
UID:163761-1559865600-1559951999@www.patriotguard.org
SUMMARY:Ernest Randolph Weber
DESCRIPTION:Honor Mission\nErnest Randolph Weber\, Retired\nUSAF\, USAFR – Vietnam\nOcean Springs\, Mississippi – 06-07-19\n\n\n\nABOUT THE MISSION: \nHonor Mission\, US Air Force Reserves Brigadier General Retired Vietnam Veteran Earnest Randolph Weber (76)Friday & Saturday 7 & 8 June 2019\, Ocean Springs/Biloxi\, MS.  We are sad to report the death of US Air Force Reserves Brigadier General Retired Vietnam Veteran Ernest Randolph Weber.  Mr. Weber was awarded the Legion of Merit\, Meritorious Service Medal w/2 devices\, Air Medal w/18 devices\, Air Force Commendation Medal\, Combat Action Ribbon\, Navy Presidential Unit Citation\, Air Force Outstanding Unit Award\,  Air Force Organizational Excellence Award\, Navy Meritorious Unit Commendation\, Combat Readiness Medal w/2 devices\, Air Reserve Forces Meritorious Service Medal w/3 devices\, National Defense Service Medal\, Vietnam Service Medal w/3 devices\, Humanitarian Service Medal\, Sea Service Deployment Ribbon\, Air Force Longevity Service Award Ribbon w/1 device\, Armed  Forces Reserve Medal w/1 device\, Organized Marine Corps Reserve Medal\, Small Arms Expert Marksmanship Ribbon w/1 device\, Air Force Training Ribbon\, Republic of Vietnam Gallantry Cross w/device and Republic of Vietnam Campaign Medal.  The family of Mr. Weber has requested the Patriot Guard Riders help honor and pay respect for his service to our country.  The Patriot Guard will provide a flag line during visitation Friday evening from 5-8 pm.  Patriot Guard will provide a flag line Saturday morning from 8-9 am\, then escort to Biloxi National Cemetery for 11:00 am committal service.\n\n\nPRIMARY STAGING DETAILS: 06-07-19 \nStaging: 4:45 pm  \nBradford Okeefe Funeral Home\n911 Porter Ave\nOcean Springs\, Mississippi\n\n\nRide Captain: \nBob Harwood\n228-243-5446\n\n\n\n\nFlags & Water:\nFlags will be provided\nLarge Bike Flags will NOT be needed.\nWater WILL NOT be provided\, please bring your own.\n\nSTAGING #2 DETAILS: 06-08-19 \nStaging: 7:45 am  \nFirst Baptist Church\n1560 Popps Ferry Rd\nBiloxi\, Mississippi 39532\n\n\nRide Captain: \nSandie Schlett\n228-297-6720\n\n\nFlags & Water:\nFlags will be provided\nIf you have large bike flags\, please bring them.\nWater WILL NOT be provided\, please bring your own.\n\nSubmitted By: Sandie Schlett \nPosition: Mississippi Assistant State Captain \n\nNote: You do not have to own/ride a motorcycle or be a veteran to join\, and membership is Free. The only requirement is RESPECT! To subscribe to receive mission notices\, log into the National Site and click on the Members tab at the top. Select the Subscribe to PGR Missions option.\n Print This Page
URL:https://www.patriotguard.org/mission/ernest-randolph-weber/
CATEGORIES:Honor Mission
END:VEVENT
END:VCALENDAR