BEGIN:VCALENDAR
VERSION:2.0
PRODID:-//Patriot Guard Riders - ECPv5.3.2.1//NONSGML v1.0//EN
CALSCALE:GREGORIAN
METHOD:PUBLISH
X-WR-CALNAME:Patriot Guard Riders
X-ORIGINAL-URL:https://www.patriotguard.org
X-WR-CALDESC:Events for Patriot Guard Riders
BEGIN:VTIMEZONE
TZID:America/New_York
BEGIN:DAYLIGHT
TZOFFSETFROM:-0500
TZOFFSETTO:-0400
TZNAME:EDT
DTSTART:20190310T070000
END:DAYLIGHT
BEGIN:STANDARD
TZOFFSETFROM:-0400
TZOFFSETTO:-0500
TZNAME:EST
DTSTART:20191103T060000
END:STANDARD
END:VTIMEZONE
BEGIN:VEVENT
DTSTART;VALUE=DATE:20190923
DTEND;VALUE=DATE:20190924
DTSTAMP:20210401T123131
CREATED:20190922T200638Z
LAST-MODIFIED:20190922T200638Z
UID:175912-1569196800-1569283199@www.patriotguard.org
SUMMARY:Ernest Phillip Tsitouris
DESCRIPTION:Honor Mission\nErnest Phillip Tsitouris\, Veteran\nUSA\nMonroe\, North Carolina – 09-23-19\n\n\n \n\nABOUT THE MISSION: \nThe family of Ernest Phillip Tsitouris\, 90\, a United States Army veteran has requested our presence for his memorial services. Mr. Tsitouris served honorably & proudly with the United States Army earning the rank of Corporal. Obituary Please join us in honoring this American Hero\n\n\nPRIMARY STAGING DETAILS: 09-23-19 \nStaging Time: 1:35 pm\n \nGordon Funeral Home\n1904 Lancaster Ave\nMonroe\, North Carolina\nMap\n\n\nRide Captain: \nCw”Snapshot”Smith\n704-690-3119\nCws68@yahoo.com\n\n\nSpecial Instructions: \nBriefing: 1:50 pm\nWe will stand a flag line for visitation following the briefing till 2:50 pm. At this time when service begins we will stand down & prepare for escort approx. 8 miles to Shiloh Baptist Church Cemetery\, located at 2301 N. Rocky River Rd\, Monroe where interment with military honors will be served.\n\nFlags & Water:\nFlags will be provided\nIf you have large bike flags\, please bring them.\nWater will be provided.\n\n  \n\n\nSubmitted By: cw smith \nPosition: North Carolina Ride Captain \n\nNote: You do not have to own/ride a motorcycle or be a veteran to join\, and membership is Free. The only requirement is RESPECT! To subscribe to receive mission notices\, log into the National Site and click on the Members tab at the top. Select the Subscribe to PGR Missions option.\n Print This Page
URL:https://www.patriotguard.org/mission/ernest-phillip-tsitouris/
CATEGORIES:Honor Mission
END:VEVENT
END:VCALENDAR