BEGIN:VCALENDAR
VERSION:2.0
PRODID:-//Patriot Guard Riders - ECPv5.3.2.1//NONSGML v1.0//EN
CALSCALE:GREGORIAN
METHOD:PUBLISH
X-WR-CALNAME:Patriot Guard Riders
X-ORIGINAL-URL:https://www.patriotguard.org
X-WR-CALDESC:Events for Patriot Guard Riders
BEGIN:VTIMEZONE
TZID:America/New_York
BEGIN:DAYLIGHT
TZOFFSETFROM:-0500
TZOFFSETTO:-0400
TZNAME:EDT
DTSTART:20190310T070000
END:DAYLIGHT
BEGIN:STANDARD
TZOFFSETFROM:-0400
TZOFFSETTO:-0500
TZNAME:EST
DTSTART:20191103T060000
END:STANDARD
END:VTIMEZONE
BEGIN:VEVENT
DTSTART;VALUE=DATE:20190619
DTEND;VALUE=DATE:20190620
DTSTAMP:20210405T074410
CREATED:20190616T025502Z
LAST-MODIFIED:20190616T025502Z
UID:164887-1560902400-1560988799@www.patriotguard.org
SUMMARY:Ernest Jayme
DESCRIPTION:Honor Mission\nErnest Jayme\, Veteran\nUSA – Korea\nPhoenix\, Arizona – 06-19-19\n\n\n\n\n\nABOUT THE MISSION: \n\nErnest Jayme served honorably in the USA. While serving he was deployed to Korea but was pulled out due to the “sibling rule” stating that all brothers in a family could not be serving in combat zones. The Sole Survivor Policy or DoD Directive 1315.15 “Special Separation Policies for Survivorship” describes a set of regulations in the Military of the United States that are designed to protect members of a family from the draft or from combat duty if they have already lost family members in military service. Ernest and 3 of his brothers were all serving in Korea. One of the brothers was a POW and the other brother is MIA.\n\nPRIMARY STAGING DETAILS: 06-19-19\nStaging Time: 11:00 AM\n\nSaint Thomas the Apostle Catholic Church2312 E Campbell Ave.\nPhoenix\, Arizona 85016\n\nRide Captain:\n\nDan Lazear azpgrdan@gmail.com\n480-223-8628Lead Road Guard: Bill “Wildhorse” Wooster \n\n\nSpecial Instructions:\n\nPlease arrive quietly. Service will be in progress.Circle of Honor/Briefing: 11:30 AM \nKSU to St. Francis: 11:45 AM \n\n\n\nFlags & Water:\n\nFlags will not be provided\nIf you have large bike flags\, please bring them.\nWater WILL NOT be provided\, please bring your own.\n\n\nSTAGING #2 DETAILS: 06-19-19\nStaging Time: 11:30 AM\n\nSt. Francis Catholic Cemetery2033 N 48th St.\nPhoenix\, Arizona 85008\n\nRide Captain:\n\nDan Lazear\, 480-223-8628\, azpgrdan@gmail.comFlag Captain: TBA \n\n\nSpecial Instructions:\n\nFlag Line Set: 11:45 AMMilitary Honors: 12:15 PM.\n\nFlags & Water:\n\nFlags will be provided\nLarge Bike Flags will NOT be needed.\nWater will be provided.\n\n\n\n\nSubmitted By: Mike Sullivan \nPosition: Arizona Assistant State Captain \n\nNote: You do not have to own/ride a motorcycle or be a veteran to join\, and membership is Free. The only requirement is RESPECT! To subscribe to receive mission notices\, log into the National Site and click on the Members tab at the top. Select the Subscribe to PGR Missions option.\n Print This Page
URL:https://www.patriotguard.org/mission/ernest-jayme/
CATEGORIES:Honor Mission
END:VEVENT
END:VCALENDAR