BEGIN:VCALENDAR
VERSION:2.0
PRODID:-//Patriot Guard Riders - ECPv5.6.0//NONSGML v1.0//EN
CALSCALE:GREGORIAN
METHOD:PUBLISH
X-WR-CALNAME:Patriot Guard Riders
X-ORIGINAL-URL:https://www.patriotguard.org
X-WR-CALDESC:Events for Patriot Guard Riders
BEGIN:VTIMEZONE
TZID:America/New_York
BEGIN:DAYLIGHT
TZOFFSETFROM:-0500
TZOFFSETTO:-0400
TZNAME:EDT
DTSTART:20160313T070000
END:DAYLIGHT
BEGIN:STANDARD
TZOFFSETFROM:-0400
TZOFFSETTO:-0500
TZNAME:EST
DTSTART:20161106T060000
END:STANDARD
END:VTIMEZONE
BEGIN:VEVENT
DTSTART;TZID=America/New_York:20160708T090000
DTEND;TZID=America/New_York:20160708T110000
DTSTAMP:20210512T234728
CREATED:20160708T130000Z
LAST-MODIFIED:20191201T144526Z
UID:410774-1467968400-1467975600@www.patriotguard.org
SUMMARY:Ernest David Brannon
DESCRIPTION:The family of Ernest Brannon has requested that the Patriot Guard stand proudly for their loved one in honor of his service to this Great Nation.  Ernest served with the US Marine Corp as a Frogman and Demolitions Expert.  We will be honored to stand for this Marine as he once stood for us. \nVISITATION & FUNERAL SERVICE \nDate:  Fri\, 8 July 16\nTime:  1000 – 1100 hrs (10 am-11 am) \nPlace:  Herr Funeral Home\n300 W Lincoln\nCaseyville\, IL \nStaging:  0845 hrs (8:45 am) at the funeral home.\nFamily scheduled to arrive between 9 and 9:30 am. \nFuneral service is scheduled for 1100 hrs (11 am) at the funeral home. \nBurial will be at Caseyville Cemetery.  We will escort family and friends for Ernest’s interment. \nRC  Ed Futch (618-973-7359)\nRC  Arne Dahlgren (w/flag support & water) \nHYDRATE PLEASE!!!
URL:https://www.patriotguard.org/mission/ernest-david-brannon/
CATEGORIES:Archive
END:VEVENT
END:VCALENDAR