BEGIN:VCALENDAR
VERSION:2.0
PRODID:-//Patriot Guard Riders - ECPv5.3.2.1//NONSGML v1.0//EN
CALSCALE:GREGORIAN
METHOD:PUBLISH
X-WR-CALNAME:Patriot Guard Riders
X-ORIGINAL-URL:https://www.patriotguard.org
X-WR-CALDESC:Events for Patriot Guard Riders
BEGIN:VTIMEZONE
TZID:America/New_York
BEGIN:DAYLIGHT
TZOFFSETFROM:-0500
TZOFFSETTO:-0400
TZNAME:EDT
DTSTART:20160313T070000
END:DAYLIGHT
BEGIN:STANDARD
TZOFFSETFROM:-0400
TZOFFSETTO:-0500
TZNAME:EST
DTSTART:20161106T060000
END:STANDARD
END:VTIMEZONE
BEGIN:VEVENT
DTSTART;TZID=America/New_York:20160502T090000
DTEND;TZID=America/New_York:20160502T110000
DTSTAMP:20210406T014019
CREATED:20160502T130000Z
LAST-MODIFIED:20191201T150426Z
UID:412484-1462179600-1462186800@www.patriotguard.org
SUMMARY:Ernest D’Andria
DESCRIPTION:Patriot Guard and Associates\, \nSadly we are called to stand a Flag Line to Honor Ernest D’Andria\, SP4\, US Army\, who served from 1972 to 1975 with Battery A\, 4th Battalion\, 4th Artillery Regiment as a Unit Supply Armorer at Fort Sill\, OK. \nHe was awarded the National Defense Service Medal\, Marksman Badge Rifle\, and Expert Qualification Badge Grenade. \nWe will provide a Flag Line at the Cemetery for the Interment with Military Honors. \nSenior Ride Captain Don Camden will be RCIC and Flags will be on site. \nSTAGE: 1000 hrs (10:00 am)\, Monday\, 2 May 2016\nSt. Joseph Cemetery\n815 Boswell Ave.\nNorwich\, CT 06360 \nGod Bless America\, Our Troops and First Responders. \nContact:\nMAC MCARTHUR\nSTATE CAPTAIN\nmac06438@aol.com\nCell:860-682-7625
URL:https://www.patriotguard.org/mission/ernest-dandria/
CATEGORIES:Archive
END:VEVENT
END:VCALENDAR