BEGIN:VCALENDAR
VERSION:2.0
PRODID:-//Patriot Guard Riders - ECPv5.3.2.1//NONSGML v1.0//EN
CALSCALE:GREGORIAN
METHOD:PUBLISH
X-WR-CALNAME:Patriot Guard Riders
X-ORIGINAL-URL:https://www.patriotguard.org
X-WR-CALDESC:Events for Patriot Guard Riders
BEGIN:VTIMEZONE
TZID:America/New_York
BEGIN:DAYLIGHT
TZOFFSETFROM:-0500
TZOFFSETTO:-0400
TZNAME:EDT
DTSTART:20190310T070000
END:DAYLIGHT
BEGIN:STANDARD
TZOFFSETFROM:-0400
TZOFFSETTO:-0500
TZNAME:EST
DTSTART:20191103T060000
END:STANDARD
END:VTIMEZONE
BEGIN:VEVENT
DTSTART;VALUE=DATE:20190701
DTEND;VALUE=DATE:20190702
DTSTAMP:20210404T053237
CREATED:20190626T231129Z
LAST-MODIFIED:20190626T231129Z
UID:165988-1561939200-1562025599@www.patriotguard.org
SUMMARY:Eric Thomas Fillingim
DESCRIPTION:  \n\nHonor Mission\nEric Thomas Fillingim\, Veteran\nUSA –  Vietnam\nCantonment\, Florida  07-01-19\n\n\n \n\nABOUT THE MISSION: \nIt is with deep regret to announce that we have lost another veteran\, Eric T. Fillingim. The Patriot Guard has been invited by the family to stand a silent flag line in his honor at Lathram Chapel\, United Methodist Church & Cemetery. Sgt Fillingim honorably served in the United States Army for 1 year and 11 months and departed this earth at age 71. He received the following awards: National Defense Service Medal\, Army Commendation Medal\, Combat Infantryman Badge w/Rifle Bar (M-16)\, Sharpshooter Qualification Badge w/Machine Gun (M-60)\, Vietnam Gallantry Cross w Palm\, Vietnam Civil Actions Honor Medal First Class\, Vietnam Campaign Medal and Vietnam Service Medal. Service will be held at Lathram Chapel\, United Methodist Church & Cemetery at 2690 Jacks Branch Road\, Cantonment\, with honors following at the cemetery on the same grounds as the church.\n\n\nPRIMARY STAGING DETAILS: 07-01-19 \nStaging Time: 12:45 pm  \nMcDonald’s\n16110 S Hwy 29\nCantonment\, Florida\n\n\nRide Captain: \nCam “Chief” Hatton\nCameron.hatton@gmail.com\n(503) 706-6930\n\n\nSpecial Instructions: \n1:30 pm – Safety briefing for all riders\n1:45 pm – KSU to Lathram Chapel United Methodist Church 2690 Jacks Branch Road\, Cantonment\n2:00 pm – Arrival at Lathram Chapel United Methodist Church & Cemetery\n2:30 pm – Honors at Lathram Chapel United Methodist Church & Cemetery\n\n\nFlags & Water:\n\nFlags will be provided\nIf you have large bike flags\, please bring them.\nWater will be provided.\n  \n\n\nSubmitted By: Ray Doyle \nPosition: Florida Assistant State Captain \n\nNote: You do not have to own/ride a motorcycle or be a veteran to join\, and membership is Free. The only requirement is RESPECT! To subscribe to receive mission notices\, log into the National Site and click on the Members tab at the top. Select the Subscribe to PGR Missions option.\n Print This Page
URL:https://www.patriotguard.org/mission/eric-thomas-fillingim/
CATEGORIES:Honor Mission
END:VEVENT
END:VCALENDAR