BEGIN:VCALENDAR
VERSION:2.0
PRODID:-//Patriot Guard Riders - ECPv5.3.2.1//NONSGML v1.0//EN
CALSCALE:GREGORIAN
METHOD:PUBLISH
X-WR-CALNAME:Patriot Guard Riders
X-ORIGINAL-URL:https://www.patriotguard.org
X-WR-CALDESC:Events for Patriot Guard Riders
BEGIN:VTIMEZONE
TZID:America/New_York
BEGIN:DAYLIGHT
TZOFFSETFROM:-0500
TZOFFSETTO:-0400
TZNAME:EDT
DTSTART:20190310T070000
END:DAYLIGHT
BEGIN:STANDARD
TZOFFSETFROM:-0400
TZOFFSETTO:-0500
TZNAME:EST
DTSTART:20191103T060000
END:STANDARD
END:VTIMEZONE
BEGIN:VEVENT
DTSTART;VALUE=DATE:20190807
DTEND;VALUE=DATE:20190808
DTSTAMP:20210402T141740
CREATED:20190806T231903Z
LAST-MODIFIED:20190806T232853Z
UID:169958-1565136000-1565222399@www.patriotguard.org
SUMMARY:Eric Daniel Compton
DESCRIPTION:Honor Mission\nEric Daniel Compton\, Active Duty\nUSMC – WoT\nNorth Richland Hills\, Texas – 08-07-19\n\n\n \n\nABOUT THE MISSION: \nCW02 Eric Compton was proud to have served in The United States Marine corps; he joined the elite group in 2003 and was an active service member until his passing. Many lifelong friendships were formed during his several tours of duty in Operation Iraqi Freedom and Operation Enduring Freedom. He was looked up to and respected and was an excellent leader and team member.  Obituary\n\n\nPRIMARY STAGING DETAILS: 08-07-19 \nStaging Time: 6:00 pm\n \nForest Ridge Funeral Home\n8525 Mid-Cities Blvd\nNorth Richland Hills\, Texas 76180\n\n\nRide Captain: \nDan Mathys\npgrdan1@gmail.com\n(817) 300-5542\n\n\nSpecial Instructions: \nThis is a two-day Mission August 7th and 9th.  Please see Staging #1\, #2 and #3 below for details.\nBriefing Time 6:15 pm\nIn Position/KSU Time 6:30 pm\nStarting Time 6:45 pm\nAfter the Mission Brief\, the Riders will establish the Flag Line and await the arrival of CW02 Compton\, family and friends. When directed\, the Riders will return the flags to the support vehicle\, be debriefed and dismissed.\n\nFlags & Water:\nFlags will be provided\nLarge Bike Flags will NOT be needed.\nWater will be provided.\n\nSTAGING #2 DETAILS: 08-09-19 \nStaging Time: 12:45 pm\n \nForest Ridge Funeral Home\n8525 Mid-Cities Blvd.\nNorth Richland Hills\, Texas 76180\n\n\nRide Captain: \nDan Mathys\npgrdan1@gmail.com\n(817) 300-5542\n\n\nSpecial Instructions: \nWater will Not be provided\, please bring your own.\nProcession to DFW National Cemetery\nBriefing Time 1:00 pm\nIn Position/KSU Time 1:15 pm\nStarting Time 1:30 pm\nAfter the Mission Briefing four honor bikes will be identified and moved to the funeral home staging area. The remainder of the Riders will line up as directed by the ride captain and prepare for the procession to DFW National Cemetery.  Escort Provided.\n\nFlags & Water:\nFlags will not be provided\nIf you have large bike flags\, please bring them.\nWater WILL NOT be provided\, please bring your own.\n\nSTAGING #3 DETAILS: 08-09-19 \nStaging Time: 1:45 pm\n \nDFW National Cemetery\n2000 Mountain Creek Pkwy\nDallas\, Texas 75112\n\n\nRide Captain: \nDan Mathys\npgrdan1@gmail.com\n(817) 300-5542\n\n\nSpecial Instructions: \nBriefing Time 2:00  pm\nIn Position/KSU Time 2:15 pm\nStarting Time 2:30 pm\nRiders will stage at the Information Center for the Mission Briefing from Ride Captain\, Jim Anderson. After the briefing\, riders will proceed to the designated shelter to set flags and await the arrival of the procession. Riders will stand tall and silent until the MRC indicates flags be returned to the storage locker/vehicle after which riders will be debriefed and dismissed.\n\nFlags & Water:\nFlags will be provided\nIf you have large bike flags\, please bring them.\nWater will be provided.\n\n\n\nSubmitted By: Dan Mathys \nPosition: Texas Ride Captain \n\nNote: You do not have to own/ride a motorcycle or be a veteran to join\, and membership is Free. The only requirement is RESPECT! To subscribe to receive mission notices\, log into the National Site and click on the Members tab at the top. Select the Subscribe to PGR Missions option.\n Print This Page
URL:https://www.patriotguard.org/mission/eric-daniel-compton/
CATEGORIES:Honor Mission
END:VEVENT
END:VCALENDAR