BEGIN:VCALENDAR
VERSION:2.0
PRODID:-//Patriot Guard Riders - ECPv5.3.2.1//NONSGML v1.0//EN
CALSCALE:GREGORIAN
METHOD:PUBLISH
X-WR-CALNAME:Patriot Guard Riders
X-ORIGINAL-URL:https://www.patriotguard.org
X-WR-CALDESC:Events for Patriot Guard Riders
BEGIN:VTIMEZONE
TZID:America/New_York
BEGIN:DAYLIGHT
TZOFFSETFROM:-0500
TZOFFSETTO:-0400
TZNAME:EDT
DTSTART:20190310T070000
END:DAYLIGHT
BEGIN:STANDARD
TZOFFSETFROM:-0400
TZOFFSETTO:-0500
TZNAME:EST
DTSTART:20191103T060000
END:STANDARD
END:VTIMEZONE
BEGIN:VEVENT
DTSTART;VALUE=DATE:20190721
DTEND;VALUE=DATE:20190722
DTSTAMP:20210403T175652
CREATED:20190718T195946Z
LAST-MODIFIED:20190718T195946Z
UID:168090-1563667200-1563753599@www.patriotguard.org
SUMMARY:Engineer Unit
DESCRIPTION:Send-off\nEngineer Unit\, Active Duty\nARNG – WoT\nSaluda\, South Carolina – 07-21-19\n\n\n\n\nABOUT THE MISSION: \nAn engineer unit of the South Carolina National Guard has requested our presence at their “Casing of the Colors” ceremony on Sunday\, 21 July 2019. The unit will deploy to a base in the US in the near future for final train up in preparation for deployment.  A separate mission will be posted for the departure.\n\n\nPRIMARY STAGING DETAILS: 07-21-19 \nStaging Time: 9:00 a.m.  \nParking lot\n160 Ivory Key Rd\nSaluda\, South Carolina 29138\nMap\n\n\nRide Captain: \nJoe Padgett\, Josephep2003@yahoo.com\, (803) 480-3560\n\n\nSpecial Instructions: \nBriefing:  9:15 am\nFlag line:  9:45 am.  After the briefing\, we will form a flag line inside a building on the property as the soldiers form inside.  We will hold the flag line until the completion of the ceremony (approximately 1 hour).\n\n\nFlags & Water:\nFlags will be provided\nLarge Bike Flags will NOT be needed.\nWater will be provided.\n\n\nSubmitted By: Joe Padgett \nPosition: South Carolina Assistant State Captain \n\nNote: You do not have to own/ride a motorcycle or be a veteran to join\, and membership is Free. The only requirement is RESPECT! To subscribe to receive mission notices\, log into the National Site and click on the Members tab at the top. Select the Subscribe to PGR Missions option.\n Print This Page
URL:https://www.patriotguard.org/mission/engineer-unit/
CATEGORIES:Send-off
END:VEVENT
END:VCALENDAR