BEGIN:VCALENDAR
VERSION:2.0
PRODID:-//Patriot Guard Riders - ECPv5.3.2.1//NONSGML v1.0//EN
CALSCALE:GREGORIAN
METHOD:PUBLISH
X-WR-CALNAME:Patriot Guard Riders
X-ORIGINAL-URL:https://www.patriotguard.org
X-WR-CALDESC:Events for Patriot Guard Riders
BEGIN:VTIMEZONE
TZID:America/New_York
BEGIN:DAYLIGHT
TZOFFSETFROM:-0500
TZOFFSETTO:-0400
TZNAME:EDT
DTSTART:20190310T070000
END:DAYLIGHT
BEGIN:STANDARD
TZOFFSETFROM:-0400
TZOFFSETTO:-0500
TZNAME:EST
DTSTART:20191103T060000
END:STANDARD
END:VTIMEZONE
BEGIN:VEVENT
DTSTART;VALUE=DATE:20190921
DTEND;VALUE=DATE:20190922
DTSTAMP:20210401T075334
CREATED:20190920T154600Z
LAST-MODIFIED:20190920T154801Z
UID:175627-1569024000-1569110399@www.patriotguard.org
SUMMARY:Elward Clarence Mowdy
DESCRIPTION:Honor\nElward Clarence Mowdy\, Veteran\nUSN\nBastrop\, Texas – 09-21-19\n\n\n\nABOUT THE MISSION: \nMr. Mowdy\, 80\, served in the US Navy from 1956 to 1960. He was a Hospitalman.\n\n\nPRIMARY STAGING DETAILS: 09-21-19 \nStaging Time: 14:00  \nBastrop Providence Funeral Home2\n079 Highway 71 East\nBastrop\, Texas 78602\nhttps://goo.gl/maps/RkzYdunaKb82\n\n\nRide Captain: \nSoup Campbell\nrobertsoupcampbell@yahoo.com\n(512) 925-2104\n\n\nSpecial Instructions: \nThis is a flag line only at the funeral home. Following the start of the service we will strike the flag line a depart quietly.\n\n\nFlags & Water:\nFlags will be provided\nLarge Bike Flags will NOT be needed.\nWater will be provided.\n\n\nSubmitted By: Mark Wells \nPosition: Texas Ride Captain \n\nNote: You do not have to own/ride a motorcycle or be a veteran to join\, and membership is Free. The only requirement is RESPECT! To subscribe to receive mission notices\, log into the National Site and click on the Members tab at the top. Select the Subscribe to PGR Missions option.\n Print This Page
URL:https://www.patriotguard.org/mission/elward-clarence-mowdy/
CATEGORIES:Honor Mission
END:VEVENT
END:VCALENDAR