BEGIN:VCALENDAR
VERSION:2.0
PRODID:-//Patriot Guard Riders - ECPv5.3.2.1//NONSGML v1.0//EN
CALSCALE:GREGORIAN
METHOD:PUBLISH
X-WR-CALNAME:Patriot Guard Riders
X-ORIGINAL-URL:https://www.patriotguard.org
X-WR-CALDESC:Events for Patriot Guard Riders
BEGIN:VTIMEZONE
TZID:America/New_York
BEGIN:DAYLIGHT
TZOFFSETFROM:-0500
TZOFFSETTO:-0400
TZNAME:EDT
DTSTART:20190310T070000
END:DAYLIGHT
BEGIN:STANDARD
TZOFFSETFROM:-0400
TZOFFSETTO:-0500
TZNAME:EST
DTSTART:20191103T060000
END:STANDARD
END:VTIMEZONE
BEGIN:VEVENT
DTSTART;VALUE=DATE:20190906
DTEND;VALUE=DATE:20190908
DTSTAMP:20210401T101246
CREATED:20190905T003343Z
LAST-MODIFIED:20190905T003343Z
UID:172801-1567728000-1567900799@www.patriotguard.org
SUMMARY:Elva Torres
DESCRIPTION:Honor Mission\nElva Torres\,  Active Duty\n USAR\nLayton\, Utah – 09-06-19\n\n\n\nABOUT THE MISSION: \nThe Patriot Guard Riders have been requested to stand a flag line for Cadet Elva Torres.\nCadet Elva Torres was serving in the U.S. Army ROTC.\n\n\n\nPRIMARY STAGING DETAILS: 09-06-19 \nStaging Time: 3:00 PM\n \nMaverik\n849 E Gordon Ave\nLayton\, Utah\n\n\nRide Captain: \nReed “Magilla” Newman\n385-441-5664.\n\n\nSpecial Instructions: \nKSU: 3:30 PM\nWeather: Mostly sunny with a high of 84.\nThis will be a two part mission.\nPart One: The viewing will be at Myer’s Mortuary on 250 N Fairfield Rd in Layton at 4:00 PM on Friday\, September 06\, 2019.\nWe will stand a flag line at the mortuary for the viewing.\nThe service will be at Myer’s Mortuary on 250 N Fairfield Rd in Layton at 11:00 AM on Saturday\, September 07\, 2019.\nWe will stand a flag line at the mortuary and then escort Cadet Elva Torres to her final resting place in the Memorial Mountain View Cemetery on 3115 Bengal Blvd in Cottonwood Heights\, where we will stand another flag line.\nAnyone attending in a cage and willing to transport flags for either portion please contact Paul Rahn at: 775-354-4241 or Reed “Magilla” Newman at: 385-441-5664.\n\n\nFlags & Water:\nFlags will be provided\nLarge Bike Flags will NOT be needed.\nWater WILL NOT be provided\, please bring your own.\n\nSTAGING #2 DETAILS: 09-07-19 \nStaging Time: 9:45 PM\n \nMaverik\n849 E Gordon Ave\nLayton\, Utah\n\n\nRide Captain: \nPaul Rahn\n775-354-4241\n\n\nSpecial Instructions: \nKSU: 3:30 PM\nWeather: Mostly sunny with a high of 84.\n\nFlags & Water:\nFlags will be provided\nIf you have large bike flags\, please bring them.\nWater WILL NOT be provided\, please bring your own.\n\n\n\nSubmitted By: Dave Richardson \nPosition: Utah State Captain \n\nNote: You do not have to own/ride a motorcycle or be a veteran to join\, and membership is Free. The only requirement is RESPECT! To subscribe to receive mission notices\, log into the National Site and click on the Members tab at the top. Select the Subscribe to PGR Missions option.\n Print This Page
URL:https://www.patriotguard.org/mission/elva-torres/
CATEGORIES:Honor Mission
END:VEVENT
END:VCALENDAR