BEGIN:VCALENDAR
VERSION:2.0
PRODID:-//Patriot Guard Riders - ECPv5.6.0//NONSGML v1.0//EN
CALSCALE:GREGORIAN
METHOD:PUBLISH
X-WR-CALNAME:Patriot Guard Riders
X-ORIGINAL-URL:https://www.patriotguard.org
X-WR-CALDESC:Events for Patriot Guard Riders
BEGIN:VTIMEZONE
TZID:America/New_York
BEGIN:DAYLIGHT
TZOFFSETFROM:-0500
TZOFFSETTO:-0400
TZNAME:EDT
DTSTART:20160313T070000
END:DAYLIGHT
BEGIN:STANDARD
TZOFFSETFROM:-0400
TZOFFSETTO:-0500
TZNAME:EST
DTSTART:20161106T060000
END:STANDARD
END:VTIMEZONE
BEGIN:VEVENT
DTSTART;TZID=America/New_York:20160625T090000
DTEND;TZID=America/New_York:20160625T110000
DTSTAMP:20210513T155315
CREATED:20160625T130000Z
LAST-MODIFIED:20191201T145016Z
UID:411213-1466845200-1466852400@www.patriotguard.org
SUMMARY:Elmer Zabinski
DESCRIPTION:All:\n\nThe family of Seamen Elmer Zabinski has requested the MN Patriot Guard stand a flag line in honor of his life and service to our country. Seamen Zabinski served aboard a Submarine as a cook from 1948–1952. Although he loved what he was doing during his tour his daughter told me it was not his way of life after his service. Seamen Zabinski poured his love and attention into his family and grandchildren. Please help as you can on this day to make it the best possible for the family. \nStaging opens at 07:45 (at  St. Peter’s Church 930 31st Ave N\, St Cloud\, MN 56303)\nBriefing              08:15\nSet Flag Line      08:30\nReview          08:30–10:00 \nStand down during service per RCIC\,\n\nMilitary Honors will follow at the Cemetery\,  Assumption Calvary Cemetery 2341 Roosevelt Road Saint Cloud\, MN 56301 \nDismissal per RCIC\, please remember your 3ft X 5ft Flag and pole and bring what you need to be self sufficient for the day. This is a rain or shine Mission. \nRCIC–To be determined \n—\nRick Rakow\nPhone. Cell [URL=”tel:320-360-2500″]320-360-2500[/URL]\nemail: stcloudrc@mnpatriotguard.org
URL:https://www.patriotguard.org/mission/elmer-zabinski/
CATEGORIES:Archive
END:VEVENT
END:VCALENDAR