BEGIN:VCALENDAR
VERSION:2.0
PRODID:-//Patriot Guard Riders - ECPv5.3.2.1//NONSGML v1.0//EN
CALSCALE:GREGORIAN
METHOD:PUBLISH
X-WR-CALNAME:Patriot Guard Riders
X-ORIGINAL-URL:https://www.patriotguard.org
X-WR-CALDESC:Events for Patriot Guard Riders
BEGIN:VTIMEZONE
TZID:America/New_York
BEGIN:DAYLIGHT
TZOFFSETFROM:-0500
TZOFFSETTO:-0400
TZNAME:EDT
DTSTART:20190310T070000
END:DAYLIGHT
BEGIN:STANDARD
TZOFFSETFROM:-0400
TZOFFSETTO:-0500
TZNAME:EST
DTSTART:20191103T060000
END:STANDARD
END:VTIMEZONE
BEGIN:VEVENT
DTSTART;VALUE=DATE:20190801
DTEND;VALUE=DATE:20190802
DTSTAMP:20210402T145556
CREATED:20190730T231751Z
LAST-MODIFIED:20190730T231751Z
UID:169192-1564617600-1564703999@www.patriotguard.org
SUMMARY:Elmer Mick
DESCRIPTION:Honor Mission\nElmer Mick\, Veteran\nUSA\nSt. Louis\, Missouri – 08-01-19\n\n\n\n\nABOUT THE MISSION: \nPatriot Guard Riders\, we have been requested to stand a flag line of honor and respect for U.S. Army veteran Elmer Mick. Just as he once stood for us we will now stand for him. Thank you for your service to the United States of America.\n\n\nPRIMARY STAGING DETAILS: 08-01-19 \nStaging Time: 11:00  \nZiegenhein & Sons Funeral Home\n7027 Gravois Ave.\nSt. Louis\, Missouri 63116\n\n\nRide Captain: \nMike Albers\nhuck3517@yahoo.com\nFLAG SUPPORT-Jim Kleszczwski\n\n\nSpecial Instructions: \nStage-11:00 am\nFamily arrives-11:30 am\nJefferson Barracks-12:30\n\n\nFlags & Water:\nFlags will be provided\nIf you have large bike flags\, please bring them.\nWater will be provided.\n\n\n\n\nSubmitted By: Michael Albers \nPosition: Missouri Ride Captain \n\nNote: You do not have to own/ride a motorcycle or be a veteran to join\, and membership is Free. The only requirement is RESPECT! To subscribe to receive mission notices\, log into the National Site and click on the Members tab at the top. Select the Subscribe to PGR Missions option.\n Print This Page
URL:https://www.patriotguard.org/mission/elmer-mick/
CATEGORIES:Honor Mission
END:VEVENT
END:VCALENDAR