BEGIN:VCALENDAR
VERSION:2.0
PRODID:-//Patriot Guard Riders - ECPv5.3.2.1//NONSGML v1.0//EN
CALSCALE:GREGORIAN
METHOD:PUBLISH
X-WR-CALNAME:Patriot Guard Riders
X-ORIGINAL-URL:https://www.patriotguard.org
X-WR-CALDESC:Events for Patriot Guard Riders
BEGIN:VTIMEZONE
TZID:America/New_York
BEGIN:DAYLIGHT
TZOFFSETFROM:-0500
TZOFFSETTO:-0400
TZNAME:EDT
DTSTART:20190310T070000
END:DAYLIGHT
BEGIN:STANDARD
TZOFFSETFROM:-0400
TZOFFSETTO:-0500
TZNAME:EST
DTSTART:20191103T060000
END:STANDARD
END:VTIMEZONE
BEGIN:VEVENT
DTSTART;VALUE=DATE:20190604
DTEND;VALUE=DATE:20190605
DTSTAMP:20210405T022550
CREATED:20190602T120400Z
LAST-MODIFIED:20190602T120400Z
UID:163217-1559606400-1559692799@www.patriotguard.org
SUMMARY:Elmer Marthaller
DESCRIPTION:Honor Mission\nElmer Marthaller\, Veteran\nUSA –\nVancouver\, Washington – 06-04-19\n\n\n\nABOUT THE MISSION: \nLadies and Gentlemen of the Patriot Guard Riders\, we have been invited by the family of Elmer Marthaller to attend the Memorial/Celebration of Life in his honor. Mr. Marthaller enlisted in the US Army on Feb. 1951 and was discharged Feb. 1953. This will be a flag line mission with Military Honors being delivered by the U.S. Army.\n\n\nPRIMARY STAGING DETAILS: 06-04-19 \nStaging Time: 11:00 AM\n \nAlbertson Grocery Store Parking Lot\n14300 NE 20th Ave\nVancouver\, Washington 98686\n\n\nRide Captain: \nBill “Z-Man” Zehner\nwjzehner@gmail.com\n402-212-7442\n\nAsst: David “Dirty” Pennington\, dpennington@cfspnw.com\, 360-270-2812\nSV: TBD\n\n\nSpecial Instructions: \nSCHEDULE 10:45 am – RC & SV arrive.\nStaging: 11:05 am – Members arrive\, sign in.\n11:10 am– Mission Brief.\n11:20 am- KSU to mission location.\n11:30 am – Flag line in place.\n12:00 pm – Ceremony starts.\n12:30 pm – end of service\, quietly fade and debrief.\nFlags will be provided.\nLarge Bike Flags will NOT be needed. Water WILL NOT be provided\, please bring your own.\n\n\nFlags & Water:\nFlags will be provided\nLarge Bike Flags will NOT be needed.\nWater WILL NOT be provided\, please bring your own.\n\n\n\nSubmitted By: David Pennington \nPosition: Washington Ride Captain \n\nNote: You do not have to own/ride a motorcycle or be a veteran to join\, and membership is Free. The only requirement is RESPECT! To subscribe to receive mission notices\, log into the National Site and click on the Members tab at the top. Select the Subscribe to PGR Missions option.\n Print This Page
URL:https://www.patriotguard.org/mission/elmer-marthaller/
CATEGORIES:Honor Mission
END:VEVENT
END:VCALENDAR