BEGIN:VCALENDAR
VERSION:2.0
PRODID:-//Patriot Guard Riders - ECPv5.3.2.1//NONSGML v1.0//EN
CALSCALE:GREGORIAN
METHOD:PUBLISH
X-WR-CALNAME:Patriot Guard Riders
X-ORIGINAL-URL:https://www.patriotguard.org
X-WR-CALDESC:Events for Patriot Guard Riders
BEGIN:VTIMEZONE
TZID:America/New_York
BEGIN:DAYLIGHT
TZOFFSETFROM:-0500
TZOFFSETTO:-0400
TZNAME:EDT
DTSTART:20210314T070000
END:DAYLIGHT
BEGIN:STANDARD
TZOFFSETFROM:-0400
TZOFFSETTO:-0500
TZNAME:EST
DTSTART:20211107T060000
END:STANDARD
END:VTIMEZONE
BEGIN:VEVENT
DTSTART;VALUE=DATE:20210401
DTEND;VALUE=DATE:20210402
DTSTAMP:20210403T122918
CREATED:20210331T232841Z
LAST-MODIFIED:20210331T232841Z
UID:573432-1617235200-1617321599@www.patriotguard.org
SUMMARY:Elmer Doyle Miller
DESCRIPTION:Honor Mission\nElmer Doyle Miller\, Retired\, Veteran\nUSAF –\nMULTI-CITY\, Texas – 04-01-21\n\n\n\nABOUT THE MISSION: \nTSgt Miller\, 85\, served 20 years\, retiring from the USAF in January 1975.\n\n\nPRIMARY STAGING DETAILS: 04-01-21 \nStaging Time: 09:30 AM\n \nFirst Baptist Church\n306 South 10th Street\nPflugerville\, Texas 78660\n\n\nRide Captain: \nMark Wells\natxpgr@gmail.com\n512-470-0380\n\nFlag Wrangler: Mark Wells\n\n\nSpecial Instructions: \nPlease mind social distancing protocol.\nAfter the start of the service we will strike the flag line and stand by to join the LEO escorted procession to CTSVC in Killeen.\nCentex PGR will be in attendance at the cemetery.\n\n\nFlags & Water:\nFlags will be provided\nIf you have large bike flags\, please bring them.\nWater will be provided.\n\nSTAGING #2 DETAILS:  04-01-21 \nStaging Time:  12:05 PM\n \nCentral Texas State Veterans Cemetery\n11463 SH 195\nKilleen\, Texas 76542\n\n\nRide Captain: \nHolly “Holler” Melendez\n254.931.0127\nInVamous_Kai@yahoo.com\n\n\nSpecial Instructions: \nOnce the obituary of Tech Sergeant Elmer Miller is published\, you may find it here: https://www.dignitymemorial.com/obituaries/pflugerville-tx/elmer-miller-10118821\n\n\nFlags & Water:\nFlags will be provided\nLarge Bike Flags will NOT be needed.\nWater will be provided.\n\n\nSubmitted By: Mark Wells \nPosition: Texas Ride Captain \n\nNote: You do not have to own/ride a motorcycle or be a veteran to join\, and membership is Free. The only requirement is RESPECT! To subscribe to receive mission notices\, log into the National Site and click on the Members tab at the top. Select the Subscribe to PGR Missions option.\n Print This Page
URL:https://www.patriotguard.org/mission/elmer-doyle-miller/
CATEGORIES:Honor Mission
END:VEVENT
END:VCALENDAR