BEGIN:VCALENDAR
VERSION:2.0
PRODID:-//Patriot Guard Riders - ECPv5.3.2.1//NONSGML v1.0//EN
CALSCALE:GREGORIAN
METHOD:PUBLISH
X-WR-CALNAME:Patriot Guard Riders
X-ORIGINAL-URL:https://www.patriotguard.org
X-WR-CALDESC:Events for Patriot Guard Riders
BEGIN:VTIMEZONE
TZID:America/New_York
BEGIN:DAYLIGHT
TZOFFSETFROM:-0500
TZOFFSETTO:-0400
TZNAME:EDT
DTSTART:20170312T070000
END:DAYLIGHT
BEGIN:STANDARD
TZOFFSETFROM:-0400
TZOFFSETTO:-0500
TZNAME:EST
DTSTART:20171105T060000
END:STANDARD
END:VTIMEZONE
BEGIN:VEVENT
DTSTART;TZID=America/New_York:20170619T124000
DTEND;TZID=America/New_York:20170619T144000
DTSTAMP:20210406T022121
CREATED:20170619T164000Z
LAST-MODIFIED:20191201T030428Z
UID:309023-1497876000-1497883200@www.patriotguard.org
SUMMARY:Elmer Compton\, Veteran\, USMC - WWII
DESCRIPTION:Elmer Compton\, Veteran \nUSMC – WWII \nPhoenix\, Arizona – 19 Jun 2017\n\n[HR][/HR]\nABOUT THE MISSION: \nThe family of Elmer Compton has requested the presence of the Arizona Patriot Guard Riders to stand a flag line for Military Honors. It will be our honor to participate. \nElmer Compton was a member of the greatest generation. The day after Pearl Harbor he tried to enlist in the service but was not old enough and could not get his parents to sign the paperwork. He had to wait until his next birthday to enlist. He enlisted in the United States Marine Corps on December 11\, 1942 and served for 3 years during World War II. During his service he was an aviation sheet metal smith and he was a gunner for multiple anti sub patrol missions under the leadership of both Colonel Pappy Boyington and Major Dooley. Elmer earned the rank of Technical Sergeant. \nPRIMARY STAGING DETAILS: 19 Jun 2017 \n \nPrimary Staging Time: 12:40 P.M.\n\nNational Memorial Cemetery of Arizona (Visitor’s Center)\n\nPhoenix\, Arizona – 85024\n\n\n\n \nRide Captain:\n\nMike “Sully” Sullivan\, 602-751-1694\, sullyazpgr@cox.net\n\n \nSpecial Instructions:\n\nBriefing: 1:00 P.M. \nFlag line immediately following briefing at designated shelter. We will stand a flag line until completion of 1:30 P.M. Military Honors. Flag line only.\n\n \nFlags & Water:\n\nFlags Will Be Provided\n\nLarge Bike Flags will NOT be needed.\n\nWater will be provided.\n\n\nSubmitted By: Mike Sullivan\nPosition: Assistant State Captain \n[HR][/HR]\nNote:\nYou do not have to own/ride a motorcycle or be a Veteran to join and membership is Free. The only requirement is RESPECT! To join\, simply go to www.PatriotGuard.org and click on Register. Membership is Free. \nTo subscribe to receive mission notices\, log into the National Site and click on the Mission Tab at the top. Select Upcoming Missions by State. Scroll to the state(s) you would like to receive notices for and click on the green check mark. Detailed instructions are also located in the FAQs on the site by clicking on the Quick Links Tab and selecting FAQs.
URL:https://www.patriotguard.org/mission/elmer-compton-veteran-usmc-wwii/
END:VEVENT
END:VCALENDAR