BEGIN:VCALENDAR
VERSION:2.0
PRODID:-//Patriot Guard Riders - ECPv5.3.2.1//NONSGML v1.0//EN
CALSCALE:GREGORIAN
METHOD:PUBLISH
X-WR-CALNAME:Patriot Guard Riders
X-ORIGINAL-URL:https://www.patriotguard.org
X-WR-CALDESC:Events for Patriot Guard Riders
BEGIN:VTIMEZONE
TZID:America/New_York
BEGIN:DAYLIGHT
TZOFFSETFROM:-0500
TZOFFSETTO:-0400
TZNAME:EDT
DTSTART:20190310T070000
END:DAYLIGHT
BEGIN:STANDARD
TZOFFSETFROM:-0400
TZOFFSETTO:-0500
TZNAME:EST
DTSTART:20191103T060000
END:STANDARD
END:VTIMEZONE
BEGIN:VEVENT
DTSTART;VALUE=DATE:20190715
DTEND;VALUE=DATE:20190719
DTSTAMP:20210404T062515
CREATED:20190714T171953Z
LAST-MODIFIED:20190714T171953Z
UID:167659-1563148800-1563494399@www.patriotguard.org
SUMMARY:Elliott J Robbins
DESCRIPTION:Honor Mission\nElliott J Robbins\, Active Duty\, Veteran\nUSA – WoT\nOgden\, Utah – 07-15-19\n\n\n\nABOUT THE MISSION: \nThe Patriot Guard Riders have been requested to stand a flag line for SFC Elliott J Robbins.SFC Elliott J Robbins served in the U.S. Army during the War on Terror. SFC Elliott J Robbins was a Green Beret assigned to D Company\, 2nd Battalion\, 10th Special Forces Airborne Group in Fort Carson\, Colorado. His father\, Freeman Robbins\, was a career Army man himself and said some of that military dedication may have rubbed off on his son. Freeman said his son was proud of his country and proud to serve it. Thank you\, SFC Elliott J Robbins\, for your service.\nAnyone attending in a cage and willing to transport flags for any portion of this mission please contact the appropriate Ride Captain. This will be a three part mission.\n\n\nPRIMARY STAGING DETAILS: 07-15-19 \nStaging Time: 10:45 AM\n \n7-Eleven\n4410 S 1900 W\nRoy\, Utah\n\n\nRide Captain: \nKen “Herman” Hurst\n801-300-9805\n\n\nSpecial Instructions: \nKSU: 11:15 AM\nDignified transfer: 12:30 PM  at Ogden-Hinckley Airport\, 3909 Airport Rd\, Ogden.\nWe will stand a flag line at the airport and then escort SFC Elliott J Robbins to Lindquist’s Ogden Mortuary\, 3408 Washington Blvd\, Ogden\, where we will stand another flag line.\nWeather: Sunny with a high of 96. Please dress accordingly and keep yourself hydrated.\n\n\nFlags & Water:\nFlags will be provided\nIf you have large bike flags\, please bring them.\nWater WILL NOT be provided\, please bring your own.\n\nSTAGING #2 DETAILS: 07-17-19 \nStaging Time: 5:15 PM\n \nLindquist Mortuary Overflow Parking Lot North side of 34th.\n428 34th St\nOgden\, Utah\n\n\nRide Captain: \nDave Richardson\n801-641-6009\n\n\nSpecial Instructions: \n**Please Note**The family will already be at the mortuary while we arrive at staging.\nThe staging area is in close proximity to the mortuary so please keep noise to a minimum when arriving.\nKSU: 5:45 PM\nVisitation: 6:00 PM. Flag line for the public viewing.\nWeather: Mostly sunny with a high of 92. Please dress accordingly and keep yourself hydrated.\n\n\nFlags & Water:\nFlags will be provided\nLarge Bike Flags will NOT be needed.\nWater WILL NOT be provided\, please bring your own.\n\nSTAGING #3 DETAILS: 07-18-19 \nStaging Time: 10:00 AM\n \nChevron\n205 S Harrison Blvd\nOgden\, Utah\n\n\nRide Captain: \nGrant Carver\n801-698-4366\n\n\nSpecial Instructions: \nKSU: 10:30 AM\nService:  11:00 AM at St. James the Just Catholic Church\, 495 N Harrison Blvd\, Ogden.\nWe will stand a flag line at the church.\nEscort to Ben Lomond Cemetery on 526 E 2850 N in Ogden\, where we will stand another flag line.\nWeather: Mostly sunny with a high of 94.\nPlease dress accordingly and keep yourself hydrated.\n\n\nFlags & Water:\nFlags will be provided\nIf you have large bike flags\, please bring them.\nWater WILL NOT be provided\, please bring your own.\n\n\n\nSubmitted By: Dave Richardson \nPosition: Utah State Captain \n\nNote: You do not have to own/ride a motorcycle or be a veteran to join\, and membership is Free. The only requirement is RESPECT! To subscribe to receive mission notices\, log into the National Site and click on the Members tab at the top. Select the Subscribe to PGR Missions option.\n Print This Page
URL:https://www.patriotguard.org/mission/elliott-j-robbins/
CATEGORIES:Honor Mission
END:VEVENT
END:VCALENDAR